FILENAME: O4510440.NWS.1167407.tif
QUADRANGLE_NAME: CAPITOL
QUADRANT: NW
WEST_LONGITUDE: -104 7 30.00000
EAST_LONGITUDE: -104 3 45.00000
NORTH_LATITUDE: 45 30 0.00000
SOUTH_LATITUDE: 45 26 15.00000
PRODUCTION_DATE: 2001 11 16
RASTER_ORDER: LEFT_RIGHT/TOP_BOTTOM
BAND_ORGANIZATION: SINGLE FILE
BAND_CONTENT: BLACK&WHITE
BAND_CONTENT: UNDEFINED
BAND_CONTENT: UNDEFINED
BITS_PER_PIXEL: 8
SAMPLES_AND_LINES: 5606 7603
HORIZONTAL_DATUM: NAD83
HORIZONTAL_COORDINATE_SYSTEM: UTM
COORDINATE_ZONE: 13
HORIZONTAL_UNITS: METERS
HORIZONTAL_RESOLUTION: 1.00000
SECONDARY_HORIZONTAL_DATUM: NAD27
XY_ORIGIN: 568021.00000 5039225.00000
SECONDARY_XY_ORIGIN: 568062.00000 5039009.00000
NATION: US
STATE: MT
NW_QUAD_CORNER_XY: 568360.90800 5038868.83000
NE_QUAD_CORNER_XY: 573243.82400 5038923.92100
SE_QUAD_CORNERY_XY: 573324.82200 5031980.40400
SW_QUAD_CORNER_XY: 568436.50600 5031925.31100
SECONDARY_NW_QUAD_XY: 568362.94800 5038651.23200
SECONDARY_NE_QUAD_XY: 573246.00900 5038706.32500
SECONDARY_SE_QUAD_XY: 573327.00700 5031762.85800
SECONDARY_SW_QUAD_XY: 568438.54500 5031707.76300
RMSE_XY: 1.90000
IMAGE_SOURCE: BLACK AND WHITE FILM
SOURCE_IMAGE_ID: NAPP 10766 49
SOURCE_IMAGE_DATE: 1998 7 10
SOURCE_DEM_DATE: 1972 00 00
AGENCY: ROCKY MOUNTAIN MAPPING CENTER (RMMC)
PRODUCER: ROCKY MOUNTAIN MAPPING CENTER (RMMC)
PRODUCTION_SYSTEM: DV2.6.4 1/00 OV2.6 6/00
COMPRESSION: UNDEFINED
STANDARD_VERSION: 1996 12
METADATA_DATE: 2001 11 16
DATA_FILE_SIZE: 42628024
BYTE_COUNT: 5606
