FILENAME: O4510439.NES.1167401.tif
QUADRANGLE_NAME: CAPITOL NW
QUADRANT: NE
WEST_LONGITUDE: -104 11 15.00000
EAST_LONGITUDE: -104 7 30.00000
NORTH_LATITUDE: 45 30 0.00000
SOUTH_LATITUDE: 45 26 15.00000
PRODUCTION_DATE: 2001 11 16
RASTER_ORDER: LEFT_RIGHT/TOP_BOTTOM
BAND_ORGANIZATION: SINGLE FILE
BAND_CONTENT: BLACK&WHITE
BAND_CONTENT: UNDEFINED
BAND_CONTENT: UNDEFINED
BITS_PER_PIXEL: 8
SAMPLES_AND_LINES: 5601 7599
HORIZONTAL_DATUM: NAD83
HORIZONTAL_COORDINATE_SYSTEM: UTM
COORDINATE_ZONE: 13
HORIZONTAL_UNITS: METERS
HORIZONTAL_RESOLUTION: 1.00000
SECONDARY_HORIZONTAL_DATUM: NAD27
XY_ORIGIN: 563138.00000 5039170.00000
SECONDARY_XY_ORIGIN: 563179.00000 5038954.00000
NATION: US
STATE: MT
NW_QUAD_CORNER_XY: 563477.99200 5038817.53800
NE_QUAD_CORNER_XY: 568360.90800 5038868.83000
SE_QUAD_CORNERY_XY: 568436.50600 5031925.31100
SW_QUAD_CORNER_XY: 563548.18900 5031874.01800
SECONDARY_NW_QUAD_XY: 563479.88600 5038599.93900
SECONDARY_NE_QUAD_XY: 568362.94800 5038651.23200
SECONDARY_SE_QUAD_XY: 568438.54500 5031707.76300
SECONDARY_SW_QUAD_XY: 563550.08200 5031656.46900
RMSE_XY: 1.50000
IMAGE_SOURCE: BLACK AND WHITE FILM
SOURCE_IMAGE_ID: NAPP 11002 7
SOURCE_IMAGE_DATE: 1998 8 27
SOURCE_DEM_DATE: 1972 00 00
AGENCY: ROCKY MOUNTAIN MAPPING CENTER (RMMC)
PRODUCER: ROCKY MOUNTAIN MAPPING CENTER (RMMC)
PRODUCTION_SYSTEM: DV2.6.4 1/00 OV2.6 6/00
COMPRESSION: UNDEFINED
STANDARD_VERSION: 1996 12
METADATA_DATE: 2001 11 16
DATA_FILE_SIZE: 42567600
BYTE_COUNT: 5601
