FILENAME: O4510439.NWS.1167402.tif
QUADRANGLE_NAME: CAPITOL NW
QUADRANT: NW
WEST_LONGITUDE: -104 15 0.00000
EAST_LONGITUDE: -104 11 15.00000
NORTH_LATITUDE: 45 30 0.00000
SOUTH_LATITUDE: 45 26 15.00000
PRODUCTION_DATE: 2001 11 16
RASTER_ORDER: LEFT_RIGHT/TOP_BOTTOM
BAND_ORGANIZATION: SINGLE FILE
BAND_CONTENT: BLACK&WHITE
BAND_CONTENT: UNDEFINED
BAND_CONTENT: UNDEFINED
BITS_PER_PIXEL: 8
SAMPLES_AND_LINES: 5595 7596
HORIZONTAL_DATUM: NAD83
HORIZONTAL_COORDINATE_SYSTEM: UTM
COORDINATE_ZONE: 13
HORIZONTAL_UNITS: METERS
HORIZONTAL_RESOLUTION: 1.00000
SECONDARY_HORIZONTAL_DATUM: NAD27
XY_ORIGIN: 558255.00000 5039119.00000
SECONDARY_XY_ORIGIN: 558296.00000 5038903.00000
NATION: US
STATE: MT
NW_QUAD_CORNER_XY: 558595.07400 5038770.04700
NE_QUAD_CORNER_XY: 563477.99200 5038817.53800
SE_QUAD_CORNERY_XY: 563548.18900 5031874.01800
SW_QUAD_CORNER_XY: 558659.87000 5031826.52500
SECONDARY_NW_QUAD_XY: 558596.82200 5038552.44700
SECONDARY_NE_QUAD_XY: 563479.88600 5038599.93900
SECONDARY_SE_QUAD_XY: 563550.08200 5031656.46900
SECONDARY_SW_QUAD_XY: 558661.61900 5031608.97400
RMSE_XY: 2.50000
IMAGE_SOURCE: BLACK AND WHITE FILM
SOURCE_IMAGE_ID: NAPP 10724 9
SOURCE_IMAGE_DATE: 1997 8 30
SOURCE_DEM_DATE: 1972 00 00
AGENCY: ROCKY MOUNTAIN MAPPING CENTER (RMMC)
PRODUCER: ROCKY MOUNTAIN MAPPING CENTER (RMMC)
PRODUCTION_SYSTEM: DV2.6.4 1/00 OV2.6 6/00
COMPRESSION: UNDEFINED
STANDARD_VERSION: 1996 12
METADATA_DATE: 2001 11 16
DATA_FILE_SIZE: 42505215
BYTE_COUNT: 5595
