FILENAME: O4510439.SES.1167403.tif
QUADRANGLE_NAME: CAPITOL NW
QUADRANT: SE
WEST_LONGITUDE: -104 11 15.00000
EAST_LONGITUDE: -104 7 30.00000
NORTH_LATITUDE: 45 26 15.00000
SOUTH_LATITUDE: 45 22 30.00000
PRODUCTION_DATE: 2001 11 16
RASTER_ORDER: LEFT_RIGHT/TOP_BOTTOM
BAND_ORGANIZATION: SINGLE FILE
BAND_CONTENT: BLACK&WHITE
BAND_CONTENT: UNDEFINED
BAND_CONTENT: UNDEFINED
BITS_PER_PIXEL: 8
SAMPLES_AND_LINES: 5606 7599
HORIZONTAL_DATUM: NAD83
HORIZONTAL_COORDINATE_SYSTEM: UTM
COORDINATE_ZONE: 13
HORIZONTAL_UNITS: METERS
HORIZONTAL_RESOLUTION: 1.00000
SECONDARY_HORIZONTAL_DATUM: NAD27
XY_ORIGIN: 563208.00000 5032226.00000
SECONDARY_XY_ORIGIN: 563248.82400 5032009.65200
NATION: US
STATE: MT
NW_QUAD_CORNER_XY: 563548.18900 5031874.01800
NE_QUAD_CORNER_XY: 568436.50600 5031925.31100
SE_QUAD_CORNERY_XY: 568512.02200 5024981.86800
SW_QUAD_CORNER_XY: 563618.31000 5024930.57300
SECONDARY_NW_QUAD_XY: 563550.08200 5031656.46900
SECONDARY_NE_QUAD_XY: 568438.54500 5031707.76300
SECONDARY_SE_QUAD_XY: 568514.06000 5024764.37000
SECONDARY_SW_QUAD_XY: 563620.20300 5024713.07400
RMSE_XY: 2.00000
IMAGE_SOURCE: BLACK AND WHITE FILM
SOURCE_IMAGE_ID: NAPP 11002 9
SOURCE_IMAGE_DATE: 1998 8 27
SOURCE_DEM_DATE: 1972 00 00
AGENCY: ROCKY MOUNTAIN MAPPING CENTER (RMMC)
PRODUCER: ROCKY MOUNTAIN MAPPING CENTER (RMMC)
PRODUCTION_SYSTEM: DV2.6.4 1/00 OV2.6 6/00
COMPRESSION: UNDEFINED
STANDARD_VERSION: 1996 12
METADATA_DATE: 2001 11 16
DATA_FILE_SIZE: 42605600
BYTE_COUNT: 5606
