FILENAME: O4510438.NES.1167397.tif
QUADRANGLE_NAME: LONE TREE CREEK
QUADRANT: NE
WEST_LONGITUDE: -104 18 45.00000
EAST_LONGITUDE: -104 15 0.00000
NORTH_LATITUDE: 45 30 0.00000
SOUTH_LATITUDE: 45 26 15.00000
PRODUCTION_DATE: 2001 11 16
RASTER_ORDER: LEFT_RIGHT/TOP_BOTTOM
BAND_ORGANIZATION: SINGLE FILE
BAND_CONTENT: BLACK&WHITE
BAND_CONTENT: UNDEFINED
BAND_CONTENT: UNDEFINED
BITS_PER_PIXEL: 8
SAMPLES_AND_LINES: 5590 7591
HORIZONTAL_DATUM: NAD83
HORIZONTAL_COORDINATE_SYSTEM: UTM
COORDINATE_ZONE: 13
HORIZONTAL_UNITS: METERS
HORIZONTAL_RESOLUTION: 1.00000
SECONDARY_HORIZONTAL_DATUM: NAD27
XY_ORIGIN: 553372.00000 5039071.00000
SECONDARY_XY_ORIGIN: 553412.81800 5038854.43800
NATION: US
STATE: MT
NW_QUAD_CORNER_XY: 553712.15500 5038726.35500
NE_QUAD_CORNER_XY: 558595.07400 5038770.04700
SE_QUAD_CORNERY_XY: 558659.87000 5031826.52500
SW_QUAD_CORNER_XY: 553771.55100 5031782.83200
SECONDARY_NW_QUAD_XY: 553713.75800 5038508.75300
SECONDARY_NE_QUAD_XY: 558596.82200 5038552.44700
SECONDARY_SE_QUAD_XY: 558661.61900 5031608.97400
SECONDARY_SW_QUAD_XY: 553773.15400 5031565.28000
RMSE_XY: 3.00000
IMAGE_SOURCE: BLACK AND WHITE FILM
SOURCE_IMAGE_ID: NAPP 10766 64
SOURCE_IMAGE_DATE: 1998 7 10
SOURCE_DEM_DATE: 1972 00 00
AGENCY: ROCKY MOUNTAIN MAPPING CENTER (RMMC)
PRODUCER: ROCKY MOUNTAIN MAPPING CENTER (RMMC)
PRODUCTION_SYSTEM: DV2.6.4 1/00 OV2.6 6/00
COMPRESSION: UNDEFINED
STANDARD_VERSION: 1996 12
METADATA_DATE: 2001 11 16
DATA_FILE_SIZE: 42439280
BYTE_COUNT: 5590
