FILENAME: O4510438.NWS.1167398.tif
QUADRANGLE_NAME: LONE TREE CREEK
QUADRANT: NW
WEST_LONGITUDE: -104 22 30.00000
EAST_LONGITUDE: -104 18 45.00000
NORTH_LATITUDE: 45 30 0.00000
SOUTH_LATITUDE: 45 26 15.00000
PRODUCTION_DATE: 2001 11 16
RASTER_ORDER: LEFT_RIGHT/TOP_BOTTOM
BAND_ORGANIZATION: SINGLE FILE
BAND_CONTENT: BLACK&WHITE
BAND_CONTENT: UNDEFINED
BAND_CONTENT: UNDEFINED
BITS_PER_PIXEL: 8
SAMPLES_AND_LINES: 5585 7587
HORIZONTAL_DATUM: NAD83
HORIZONTAL_COORDINATE_SYSTEM: UTM
COORDINATE_ZONE: 13
HORIZONTAL_UNITS: METERS
HORIZONTAL_RESOLUTION: 1.00000
SECONDARY_HORIZONTAL_DATUM: NAD27
XY_ORIGIN: 548489.00000 5039027.00000
SECONDARY_XY_ORIGIN: 548529.85100 5038810.42800
NATION: US
STATE: MT
NW_QUAD_CORNER_XY: 548829.23500 5038686.46300
NE_QUAD_CORNER_XY: 553712.15500 5038726.35500
SE_QUAD_CORNERY_XY: 553771.55100 5031782.83200
SW_QUAD_CORNER_XY: 548883.23100 5031742.93900
SECONDARY_NW_QUAD_XY: 548830.69200 5038468.86000
SECONDARY_NE_QUAD_XY: 553713.75800 5038508.75300
SECONDARY_SE_QUAD_XY: 553773.15400 5031565.28000
SECONDARY_SW_QUAD_XY: 548884.68800 5031525.38500
RMSE_XY: 1.90000
IMAGE_SOURCE: BLACK AND WHITE FILM
SOURCE_IMAGE_ID: NAPP 10724 76
SOURCE_IMAGE_DATE: 1997 8 30
SOURCE_DEM_DATE: 1972 00 00
AGENCY: ROCKY MOUNTAIN MAPPING CENTER (RMMC)
PRODUCER: ROCKY MOUNTAIN MAPPING CENTER (RMMC)
PRODUCTION_SYSTEM: DV2.6.4 1/00 OV2.6 6/00
COMPRESSION: UNDEFINED
STANDARD_VERSION: 1996 12
METADATA_DATE: 2001 11 16
DATA_FILE_SIZE: 42378980
BYTE_COUNT: 5585
