FILENAME: O4510437.NES.1167393.tif
QUADRANGLE_NAME: PRAIRIE DOG CREEK
QUADRANT: NE
WEST_LONGITUDE: -104 26 15.00000
EAST_LONGITUDE: -104 22 30.00000
NORTH_LATITUDE: 45 30 0.00000
SOUTH_LATITUDE: 45 26 15.00000
PRODUCTION_DATE: 2001 11 16
RASTER_ORDER: LEFT_RIGHT/TOP_BOTTOM
BAND_ORGANIZATION: SINGLE FILE
BAND_CONTENT: BLACK&WHITE
BAND_CONTENT: UNDEFINED
BAND_CONTENT: UNDEFINED
BITS_PER_PIXEL: 8
SAMPLES_AND_LINES: 5579 7583
HORIZONTAL_DATUM: NAD83
HORIZONTAL_COORDINATE_SYSTEM: UTM
COORDINATE_ZONE: 13
HORIZONTAL_UNITS: METERS
HORIZONTAL_RESOLUTION: 1.00000
SECONDARY_HORIZONTAL_DATUM: NAD27
XY_ORIGIN: 543606.00000 5038987.00000
SECONDARY_XY_ORIGIN: 543646.88500 5038770.41900
NATION: US
STATE: MT
NW_QUAD_CORNER_XY: 543946.31400 5038650.37000
NE_QUAD_CORNER_XY: 548829.23500 5038686.46300
SE_QUAD_CORNERY_XY: 548883.23100 5031742.93900
SW_QUAD_CORNER_XY: 543994.91000 5031706.84500
SECONDARY_NW_QUAD_XY: 543947.62500 5038432.76600
SECONDARY_NE_QUAD_XY: 548830.69200 5038468.86000
SECONDARY_SE_QUAD_XY: 548884.68800 5031525.38500
SECONDARY_SW_QUAD_XY: 543996.22100 5031489.29000
RMSE_XY: 1.40000
IMAGE_SOURCE: BLACK AND WHITE FILM
SOURCE_IMAGE_ID: NAPP 10724 127
SOURCE_IMAGE_DATE: 1997 8 30
SOURCE_DEM_DATE: 1972 00 00
AGENCY: ROCKY MOUNTAIN MAPPING CENTER (RMMC)
PRODUCER: ROCKY MOUNTAIN MAPPING CENTER (RMMC)
PRODUCTION_SYSTEM: DV2.6.4 1/00 OV2.6 6/00
COMPRESSION: UNDEFINED
STANDARD_VERSION: 1996 12
METADATA_DATE: 2001 11 16
DATA_FILE_SIZE: 42311136
BYTE_COUNT: 5579
