FILENAME: O4510437.SWS.1167396.tif
QUADRANGLE_NAME: PRAIRIE DOG CREEK
QUADRANT: SW
WEST_LONGITUDE: -104 30 0.00000
EAST_LONGITUDE: -104 26 15.00000
NORTH_LATITUDE: 45 26 15.00000
SOUTH_LATITUDE: 45 22 30.00000
PRODUCTION_DATE: 2001 11 16
RASTER_ORDER: LEFT_RIGHT/TOP_BOTTOM
BAND_ORGANIZATION: SINGLE FILE
BAND_CONTENT: BLACK&WHITE
BAND_CONTENT: UNDEFINED
BAND_CONTENT: UNDEFINED
BITS_PER_PIXEL: 8
SAMPLES_AND_LINES: 5579 7580
HORIZONTAL_DATUM: NAD83
HORIZONTAL_COORDINATE_SYSTEM: UTM
COORDINATE_ZONE: 13
HORIZONTAL_UNITS: METERS
HORIZONTAL_RESOLUTION: 1.00000
SECONDARY_HORIZONTAL_DATUM: NAD27
XY_ORIGIN: 538766.00000 5032008.00000
SECONDARY_XY_ORIGIN: 538807.00000 5031792.00000
NATION: US
STATE: MT
NW_QUAD_CORNER_XY: 539106.58900 5031674.55100
NE_QUAD_CORNER_XY: 543994.91000 5031706.84500
SE_QUAD_CORNERY_XY: 544043.45400 5024763.39500
SW_QUAD_CORNER_XY: 539149.73800 5024731.10000
SECONDARY_NW_QUAD_XY: 539107.75400 5031456.99500
SECONDARY_NE_QUAD_XY: 543996.22100 5031489.29000
SECONDARY_SE_QUAD_XY: 544044.76500 5024545.89100
SECONDARY_SW_QUAD_XY: 539150.90300 5024513.59500
RMSE_XY: 1.20000
IMAGE_SOURCE: BLACK AND WHITE FILM
SOURCE_IMAGE_ID: NAPP 10724 164
SOURCE_IMAGE_DATE: 1997 8 30
SOURCE_DEM_DATE: 1972 00 00
AGENCY: ROCKY MOUNTAIN MAPPING CENTER (RMMC)
PRODUCER: ROCKY MOUNTAIN MAPPING CENTER (RMMC)
PRODUCTION_SYSTEM: DV2.6.4 1/00 OV2.6 6/00
COMPRESSION: UNDEFINED
STANDARD_VERSION: 1996 12
METADATA_DATE: 2001 11 16
DATA_FILE_SIZE: 42294399
BYTE_COUNT: 5579
