FILENAME: O4510436.NWS.1167390.tif
QUADRANGLE_NAME: RIDGWAY
QUADRANT: NW
WEST_LONGITUDE: -104 37 30.00000
EAST_LONGITUDE: -104 33 45.00000
NORTH_LATITUDE: 45 30 0.00000
SOUTH_LATITUDE: 45 26 15.00000
PRODUCTION_DATE: 2001 11 16
RASTER_ORDER: LEFT_RIGHT/TOP_BOTTOM
BAND_ORGANIZATION: SINGLE FILE
BAND_CONTENT: BLACK&WHITE
BAND_CONTENT: UNDEFINED
BAND_CONTENT: UNDEFINED
BITS_PER_PIXEL: 8
SAMPLES_AND_LINES: 5564 7573
HORIZONTAL_DATUM: NAD83
HORIZONTAL_COORDINATE_SYSTEM: UTM
COORDINATE_ZONE: 13
HORIZONTAL_UNITS: METERS
HORIZONTAL_RESOLUTION: 1.00000
SECONDARY_HORIZONTAL_DATUM: NAD27
XY_ORIGIN: 528956.00000 5038891.00000
SECONDARY_XY_ORIGIN: 528997.00000 5038675.00000
NATION: US
STATE: MT
NW_QUAD_CORNER_XY: 529297.54700 5038564.88900
NE_QUAD_CORNER_XY: 534180.47000 5038589.58300
SE_QUAD_CORNERY_XY: 534218.26700 5031646.05600
SW_QUAD_CORNER_XY: 529329.94400 5031621.36100
SECONDARY_NW_QUAD_XY: 529298.42100 5038347.28200
SECONDARY_NE_QUAD_XY: 534181.49000 5038371.97800
SECONDARY_SE_QUAD_XY: 534219.28600 5031428.50000
SECONDARY_SW_QUAD_XY: 529330.81800 5031403.80400
RMSE_XY: 1.30000
IMAGE_SOURCE: BLACK AND WHITE FILM
SOURCE_IMAGE_ID: NAPP 9105 24
SOURCE_IMAGE_DATE: 1996 8 1
SOURCE_DEM_DATE: 1973 00 00
AGENCY: ROCKY MOUNTAIN MAPPING CENTER (RMMC)
PRODUCER: ROCKY MOUNTAIN MAPPING CENTER (RMMC)
PRODUCTION_SYSTEM: DV2.6.4 1/00 OV2.6 6/00
COMPRESSION: UNDEFINED
STANDARD_VERSION: 1996 12
METADATA_DATE: 2001 11 16
DATA_FILE_SIZE: 42141736
BYTE_COUNT: 5564
