FILENAME: O4510436.SES.1167391.tif
QUADRANGLE_NAME: RIDGWAY
QUADRANT: SE
WEST_LONGITUDE: -104 33 45.00000
EAST_LONGITUDE: -104 30 0.00000
NORTH_LATITUDE: 45 26 15.00000
SOUTH_LATITUDE: 45 22 30.00000
PRODUCTION_DATE: 2001 11 16
RASTER_ORDER: LEFT_RIGHT/TOP_BOTTOM
BAND_ORGANIZATION: SINGLE FILE
BAND_CONTENT: BLACK&WHITE
BAND_CONTENT: UNDEFINED
BAND_CONTENT: UNDEFINED
BITS_PER_PIXEL: 8
SAMPLES_AND_LINES: 5575 7577
HORIZONTAL_DATUM: NAD83
HORIZONTAL_COORDINATE_SYSTEM: UTM
COORDINATE_ZONE: 13
HORIZONTAL_UNITS: METERS
HORIZONTAL_RESOLUTION: 1.00000
SECONDARY_HORIZONTAL_DATUM: NAD27
XY_ORIGIN: 533877.00000 5031976.00000
SECONDARY_XY_ORIGIN: 533918.00000 5031760.00000
NATION: US
STATE: MT
NW_QUAD_CORNER_XY: 534218.26700 5031646.05600
NE_QUAD_CORNER_XY: 539106.58900 5031674.55100
SE_QUAD_CORNERY_XY: 539149.73800 5024731.10000
SW_QUAD_CORNER_XY: 534256.02200 5024702.60500
SECONDARY_NW_QUAD_XY: 534219.28600 5031428.50000
SECONDARY_NE_QUAD_XY: 539107.75400 5031456.99500
SECONDARY_SE_QUAD_XY: 539150.90300 5024513.59500
SECONDARY_SW_QUAD_XY: 534257.04200 5024485.09900
RMSE_XY: 1.00000
IMAGE_SOURCE: BLACK AND WHITE FILM
SOURCE_IMAGE_ID: NAPP 10724 213
SOURCE_IMAGE_DATE: 1997 8 30
SOURCE_DEM_DATE: 1973 00 00
AGENCY: ROCKY MOUNTAIN MAPPING CENTER (RMMC)
PRODUCER: ROCKY MOUNTAIN MAPPING CENTER (RMMC)
PRODUCTION_SYSTEM: DV2.6.4 1/00 OV2.6 6/00
COMPRESSION: UNDEFINED
STANDARD_VERSION: 1996 12
METADATA_DATE: 2001 11 16
DATA_FILE_SIZE: 42247350
BYTE_COUNT: 5575
