FILENAME: O4510434.SES.1167383.tif
QUADRANGLE_NAME: KNUDSON DRAW NE
QUADRANT: SE
WEST_LONGITUDE: -104 48 45.00000
EAST_LONGITUDE: -104 45 0.00000
NORTH_LATITUDE: 45 26 15.00000
SOUTH_LATITUDE: 45 22 30.00000
PRODUCTION_DATE: 2001 11 16
RASTER_ORDER: LEFT_RIGHT/TOP_BOTTOM
BAND_ORGANIZATION: SINGLE FILE
BAND_CONTENT: BLACK&WHITE
BAND_CONTENT: UNDEFINED
BAND_CONTENT: UNDEFINED
BITS_PER_PIXEL: 8
SAMPLES_AND_LINES: 5554 7561
HORIZONTAL_DATUM: NAD83
HORIZONTAL_COORDINATE_SYSTEM: UTM
COORDINATE_ZONE: 13
HORIZONTAL_UNITS: METERS
HORIZONTAL_RESOLUTION: 1.00000
SECONDARY_HORIZONTAL_DATUM: NAD27
XY_ORIGIN: 514323.00000 5031884.00000
SECONDARY_XY_ORIGIN: 514364.27800 5031667.51100
NATION: US
STATE: MT
NW_QUAD_CORNER_XY: 514664.97300 5031570.07100
NE_QUAD_CORNER_XY: 519553.29700 5031583.36800
SE_QUAD_CORNERY_XY: 519574.87100 5024639.91500
SW_QUAD_CORNER_XY: 514681.15400 5024626.61800
SECONDARY_NW_QUAD_XY: 514665.41000 5031352.51200
SECONDARY_NE_QUAD_XY: 519553.88000 5031365.81000
SECONDARY_SE_QUAD_XY: 519575.45400 5024422.40700
SECONDARY_SW_QUAD_XY: 514681.59100 5024409.10900
RMSE_XY: 1.00000
IMAGE_SOURCE: BLACK AND WHITE FILM
SOURCE_IMAGE_ID: NAPP 9107 94
SOURCE_IMAGE_DATE: 1996 8 7
SOURCE_DEM_DATE: 1973 00 00
AGENCY: ROCKY MOUNTAIN MAPPING CENTER (RMMC)
PRODUCER: ROCKY MOUNTAIN MAPPING CENTER (RMMC)
PRODUCTION_SYSTEM: DV2.6.4 1/00 OV2.6 6/00
COMPRESSION: UNDEFINED
STANDARD_VERSION: 1996 12
METADATA_DATE: 2001 11 16
DATA_FILE_SIZE: 41999348
BYTE_COUNT: 5554
