FILENAME: O4510433.SES.1167379.tif
QUADRANGLE_NAME: PENTECOST RESERVOIR
QUADRANT: SE
WEST_LONGITUDE: -104 56 15.00000
EAST_LONGITUDE: -104 52 30.00000
NORTH_LATITUDE: 45 26 15.00000
SOUTH_LATITUDE: 45 22 30.00000
PRODUCTION_DATE: 2001 11 16
RASTER_ORDER: LEFT_RIGHT/TOP_BOTTOM
BAND_ORGANIZATION: SINGLE FILE
BAND_CONTENT: BLACK&WHITE
BAND_CONTENT: UNDEFINED
BAND_CONTENT: UNDEFINED
BITS_PER_PIXEL: 8
SAMPLES_AND_LINES: 5543 7554
HORIZONTAL_DATUM: NAD83
HORIZONTAL_COORDINATE_SYSTEM: UTM
COORDINATE_ZONE: 13
HORIZONTAL_UNITS: METERS
HORIZONTAL_RESOLUTION: 1.00000
SECONDARY_HORIZONTAL_DATUM: NAD27
XY_ORIGIN: 504546.00000 5031862.00000
SECONDARY_XY_ORIGIN: 504587.00000 5031646.00000
NATION: US
STATE: MT
NW_QUAD_CORNER_XY: 504888.32400 5031554.87400
NE_QUAD_CORNER_XY: 509776.64900 5031560.57300
SE_QUAD_CORNERY_XY: 509787.43600 5024617.11900
SW_QUAD_CORNER_XY: 504893.71800 5024611.42000
SECONDARY_NW_QUAD_XY: 504888.47000 5031337.31500
SECONDARY_NE_QUAD_XY: 509776.94000 5031343.01400
SECONDARY_SE_QUAD_XY: 509787.72700 5024399.61100
SECONDARY_SW_QUAD_XY: 504893.86400 5024393.91100
RMSE_XY: 0.90000
IMAGE_SOURCE: BLACK AND WHITE FILM
SOURCE_IMAGE_ID: NAPP 10722 109
SOURCE_IMAGE_DATE: 1997 8 25
SOURCE_DEM_DATE: 1973 00 00
AGENCY: ROCKY MOUNTAIN MAPPING CENTER (RMMC)
PRODUCER: ROCKY MOUNTAIN MAPPING CENTER (RMMC)
PRODUCTION_SYSTEM: DV2.6.4 1/00 OV2.6 6/00
COMPRESSION: UNDEFINED
STANDARD_VERSION: 1996 12
METADATA_DATE: 2001 11 16
DATA_FILE_SIZE: 41877365
BYTE_COUNT: 5543
