FILENAME: O4510432.NES.941741.tif
QUADRANGLE_NAME: CAPITOL ROCK
QUADRANT: NE
WEST_LONGITUDE: -104 3 45.00000
EAST_LONGITUDE: -104 0 0.00000
NORTH_LATITUDE: 45 37 30.00000
SOUTH_LATITUDE: 45 33 45.00000
PRODUCTION_DATE: 1998 12 2
RASTER_ORDER: LEFT_RIGHT/TOP_BOTTOM
BAND_ORGANIZATION: SINGLE FILE
BAND_CONTENT: BLACK&WHITE
BAND_CONTENT: UNDEFINED
BAND_CONTENT: UNDEFINED
BITS_PER_PIXEL: 8
SAMPLES_AND_LINES: 5600 7606
HORIZONTAL_DATUM: NAD83
HORIZONTAL_COORDINATE_SYSTEM: UTM
COORDINATE_ZONE: 13
HORIZONTAL_UNITS: METERS
HORIZONTAL_RESOLUTION: 1.00000
SECONDARY_HORIZONTAL_DATUM: NAD27
XY_ORIGIN: 572742.00000 5053171.00000
SECONDARY_XY_ORIGIN: 572782.00000 5052955.00000
NATION: US
STATE: MT
STATE: SD
NW_QUAD_CORNER_XY: 573081.56400 5052811.17600
NE_QUAD_CORNER_XY: 577953.65800 5052870.06300
SE_QUAD_CORNERY_XY: 578040.24500 5045926.40100
SW_QUAD_CORNER_XY: 573162.73700 5045867.51100
SECONDARY_NW_QUAD_XY: 573083.75100 5052593.48500
SECONDARY_NE_QUAD_XY: 577955.99100 5052652.37400
SECONDARY_SE_QUAD_XY: 578042.57700 5045708.75900
SECONDARY_SW_QUAD_XY: 573164.92400 5045649.86800
RMSE_XY: 2.20000
IMAGE_SOURCE: BLACK AND WHITE FILM
SOURCE_IMAGE_ID: NAPP 9123 29
SOURCE_IMAGE_DATE: 1997 8 3
SOURCE_DEM_DATE: 1998 07 23
AGENCY: WESTERN MAPPING CENTER (WMC)
PRODUCER: MID-CONTINENT MAPPING CENTER (MCMC)
PRODUCTION_SYSTEM: DV2.6.3 10/9OV2.4 5/95
COMPRESSION: UNDEFINED
STANDARD_VERSION: 1996 12
METADATA_DATE: 1998 12 9
DATA_FILE_SIZE: 42599200
BYTE_COUNT: 5600
