FILENAME: O4510432.SES.941743.tif
QUADRANGLE_NAME: CAPITOL ROCK
QUADRANT: SE
WEST_LONGITUDE: -104 3 45.00000
EAST_LONGITUDE: -104 0 0.00000
NORTH_LATITUDE: 45 33 45.00000
SOUTH_LATITUDE: 45 30 0.00000
PRODUCTION_DATE: 1998 12 2
RASTER_ORDER: LEFT_RIGHT/TOP_BOTTOM
BAND_ORGANIZATION: SINGLE FILE
BAND_CONTENT: BLACK&WHITE
BAND_CONTENT: UNDEFINED
BAND_CONTENT: UNDEFINED
BITS_PER_PIXEL: 8
SAMPLES_AND_LINES: 5604 7606
HORIZONTAL_DATUM: NAD83
HORIZONTAL_COORDINATE_SYSTEM: UTM
COORDINATE_ZONE: 13
HORIZONTAL_UNITS: METERS
HORIZONTAL_RESOLUTION: 1.00000
SECONDARY_HORIZONTAL_DATUM: NAD27
XY_ORIGIN: 572823.00000 5046227.00000
SECONDARY_XY_ORIGIN: 572863.59300 5046010.31400
NATION: US
STATE: MT
STATE: SD
NW_QUAD_CORNER_XY: 573162.73700 5045867.51100
NE_QUAD_CORNER_XY: 578040.24500 5045926.40100
SE_QUAD_CORNERY_XY: 578126.73800 5038982.81200
SW_QUAD_CORNER_XY: 573243.82400 5038923.92100
SECONDARY_NW_QUAD_XY: 573164.92400 5045649.86800
SECONDARY_NE_QUAD_XY: 578042.57700 5045708.75900
SECONDARY_SE_QUAD_XY: 578129.06900 5038765.21800
SECONDARY_SW_QUAD_XY: 573246.00900 5038706.32500
RMSE_XY: 2.10000
IMAGE_SOURCE: BLACK AND WHITE FILM
SOURCE_IMAGE_ID: NAPP 9123 27
SOURCE_IMAGE_DATE: 1997 8 3
SOURCE_DEM_DATE: 1998 07 23
AGENCY: WESTERN MAPPING CENTER (WMC)
PRODUCER: MID-CONTINENT MAPPING CENTER (MCMC)
PRODUCTION_SYSTEM: DV2.6.3 10/9OV2.4 5/95
COMPRESSION: UNDEFINED
STANDARD_VERSION: 1996 12
METADATA_DATE: 1998 12 9
DATA_FILE_SIZE: 42629628
BYTE_COUNT: 5604
