FILENAME: O4510432.SWS.941744.tif
QUADRANGLE_NAME: CAPITOL ROCK
QUADRANT: SW
WEST_LONGITUDE: -104 7 30.00000
EAST_LONGITUDE: -104 3 45.00000
NORTH_LATITUDE: 45 33 45.00000
SOUTH_LATITUDE: 45 30 0.00000
PRODUCTION_DATE: 1998 12 2
RASTER_ORDER: LEFT_RIGHT/TOP_BOTTOM
BAND_ORGANIZATION: SINGLE FILE
BAND_CONTENT: BLACK&WHITE
BAND_CONTENT: UNDEFINED
BAND_CONTENT: UNDEFINED
BITS_PER_PIXEL: 8
SAMPLES_AND_LINES: 5600 7603
HORIZONTAL_DATUM: NAD83
HORIZONTAL_COORDINATE_SYSTEM: UTM
COORDINATE_ZONE: 13
HORIZONTAL_UNITS: METERS
HORIZONTAL_RESOLUTION: 1.00000
SECONDARY_HORIZONTAL_DATUM: NAD27
XY_ORIGIN: 567946.00000 5046169.00000
SECONDARY_XY_ORIGIN: 567986.62900 5045952.29800
NATION: US
STATE: MT
NW_QUAD_CORNER_XY: 568285.22900 5045812.42200
NE_QUAD_CORNER_XY: 573162.73700 5045867.51100
SE_QUAD_CORNERY_XY: 573243.82400 5038923.92100
SW_QUAD_CORNER_XY: 568360.90800 5038868.83000
SECONDARY_NW_QUAD_XY: 568287.26900 5045594.77700
SECONDARY_NE_QUAD_XY: 573164.92400 5045649.86800
SECONDARY_SE_QUAD_XY: 573246.00900 5038706.32500
SECONDARY_SW_QUAD_XY: 568362.94800 5038651.23200
RMSE_XY: 1.10000
IMAGE_SOURCE: BLACK AND WHITE FILM
SOURCE_IMAGE_ID: NAPP 9123 46
SOURCE_IMAGE_DATE: 1997 8 3
SOURCE_DEM_DATE: 1998 07 23
AGENCY: WESTERN MAPPING CENTER (WMC)
PRODUCER: MID-CONTINENT MAPPING CENTER (MCMC)
PRODUCTION_SYSTEM: DV2.6.3 10/9OV2.4 5/95
COMPRESSION: UNDEFINED
STANDARD_VERSION: 1996 12
METADATA_DATE: 1998 12 9
DATA_FILE_SIZE: 42582400
BYTE_COUNT: 5600
