FILENAME: O4510431.NES.941679.tif
QUADRANGLE_NAME: TIMBER HILL
QUADRANT: NE
WEST_LONGITUDE: -104 11 15.00000
EAST_LONGITUDE: -104 7 30.00000
NORTH_LATITUDE: 45 37 30.00000
SOUTH_LATITUDE: 45 33 45.00000
PRODUCTION_DATE: 1998 12 2
RASTER_ORDER: LEFT_RIGHT/TOP_BOTTOM
BAND_ORGANIZATION: SINGLE FILE
BAND_CONTENT: BLACK&WHITE
BAND_CONTENT: UNDEFINED
BAND_CONTENT: UNDEFINED
BITS_PER_PIXEL: 8
SAMPLES_AND_LINES: 5588 7599
HORIZONTAL_DATUM: NAD83
HORIZONTAL_COORDINATE_SYSTEM: UTM
COORDINATE_ZONE: 13
HORIZONTAL_UNITS: METERS
HORIZONTAL_RESOLUTION: 1.00000
SECONDARY_HORIZONTAL_DATUM: NAD27
XY_ORIGIN: 562998.00000 5053057.00000
SECONDARY_XY_ORIGIN: 563038.58700 5052840.10400
NATION: US
STATE: MT
NW_QUAD_CORNER_XY: 563337.37000 5052704.80200
NE_QUAD_CORNER_XY: 568209.46700 5052756.08900
SE_QUAD_CORNERY_XY: 568285.22900 5045812.42200
SW_QUAD_CORNER_XY: 563407.71900 5045761.13300
SECONDARY_NW_QUAD_XY: 563339.26500 5052487.10800
SECONDARY_NE_QUAD_XY: 568211.50800 5052538.39600
SECONDARY_SE_QUAD_XY: 568287.26900 5045594.77700
SECONDARY_SW_QUAD_XY: 563409.61300 5045543.48600
RMSE_XY: 1.90000
IMAGE_SOURCE: BLACK AND WHITE FILM
SOURCE_IMAGE_ID: NAPP 9095 31
SOURCE_IMAGE_DATE: 1996 7 9
SOURCE_DEM_DATE: 1998 07 23
AGENCY: WESTERN MAPPING CENTER (WMC)
PRODUCER: MID-CONTINENT MAPPING CENTER (MCMC)
PRODUCTION_SYSTEM: DV2.6.3 10/9OV2.4 5/95
COMPRESSION: UNDEFINED
STANDARD_VERSION: 1996 12
METADATA_DATE: 1998 12 9
DATA_FILE_SIZE: 42468800
BYTE_COUNT: 5588
