FILENAME: O4510430.NES.941673.tif
QUADRANGLE_NAME: BELLTOWER BUTTE
QUADRANT: NE
WEST_LONGITUDE: -104 18 45.00000
EAST_LONGITUDE: -104 15 0.00000
NORTH_LATITUDE: 45 37 30.00000
SOUTH_LATITUDE: 45 33 45.00000
PRODUCTION_DATE: 1998 12 2
RASTER_ORDER: LEFT_RIGHT/TOP_BOTTOM
BAND_ORGANIZATION: SINGLE FILE
BAND_CONTENT: BLACK&WHITE
BAND_CONTENT: UNDEFINED
BAND_CONTENT: UNDEFINED
BITS_PER_PIXEL: 8
SAMPLES_AND_LINES: 5576 7591
HORIZONTAL_DATUM: NAD83
HORIZONTAL_COORDINATE_SYSTEM: UTM
COORDINATE_ZONE: 13
HORIZONTAL_UNITS: METERS
HORIZONTAL_RESOLUTION: 1.00000
SECONDARY_HORIZONTAL_DATUM: NAD27
XY_ORIGIN: 553253.00000 5052958.00000
SECONDARY_XY_ORIGIN: 553293.00000 5052742.00000
NATION: US
STATE: MT
NW_QUAD_CORNER_XY: 553593.16900 5052613.62600
NE_QUAD_CORNER_XY: 558465.27000 5052657.31400
SE_QUAD_CORNERY_XY: 558530.20700 5045713.64300
SW_QUAD_CORNER_XY: 553652.69400 5045669.95300
SECONDARY_NW_QUAD_XY: 553594.77300 5052395.92900
SECONDARY_NE_QUAD_XY: 558467.01900 5052439.61800
SECONDARY_SE_QUAD_XY: 558531.95600 5045495.99500
SECONDARY_SW_QUAD_XY: 553654.29700 5045452.30300
RMSE_XY: 0.80000
IMAGE_SOURCE: BLACK AND WHITE FILM
SOURCE_IMAGE_ID: NAPP 10724 33
SOURCE_IMAGE_DATE: 1997 8 30
SOURCE_DEM_DATE: 1998 07 23
AGENCY: WESTERN MAPPING CENTER (WMC)
PRODUCER: MID-CONTINENT MAPPING CENTER (MCMC)
PRODUCTION_SYSTEM: DV2.6.3 10/9OV2.4 5/95
COMPRESSION: UNDEFINED
STANDARD_VERSION: 1996 12
METADATA_DATE: 1998 12 8
DATA_FILE_SIZE: 42332992
BYTE_COUNT: 5576
