FILENAME: O4510430.SES.941675.tif
QUADRANGLE_NAME: BELLTOWER BUTTE
QUADRANT: SE
WEST_LONGITUDE: -104 18 45.00000
EAST_LONGITUDE: -104 15 0.00000
NORTH_LATITUDE: 45 33 45.00000
SOUTH_LATITUDE: 45 30 0.00000
PRODUCTION_DATE: 1998 12 2
RASTER_ORDER: LEFT_RIGHT/TOP_BOTTOM
BAND_ORGANIZATION: SINGLE FILE
BAND_CONTENT: BLACK&WHITE
BAND_CONTENT: UNDEFINED
BAND_CONTENT: UNDEFINED
BITS_PER_PIXEL: 8
SAMPLES_AND_LINES: 5584 7592
HORIZONTAL_DATUM: NAD83
HORIZONTAL_COORDINATE_SYSTEM: UTM
COORDINATE_ZONE: 13
HORIZONTAL_UNITS: METERS
HORIZONTAL_RESOLUTION: 1.00000
SECONDARY_HORIZONTAL_DATUM: NAD27
XY_ORIGIN: 553313.00000 5046015.00000
SECONDARY_XY_ORIGIN: 553353.73300 5045798.26100
NATION: US
STATE: MT
NW_QUAD_CORNER_XY: 553652.69400 5045669.95300
NE_QUAD_CORNER_XY: 558530.20700 5045713.64300
SE_QUAD_CORNERY_XY: 558595.07400 5038770.04700
SW_QUAD_CORNER_XY: 553712.15500 5038726.35500
SECONDARY_NW_QUAD_XY: 553654.29700 5045452.30300
SECONDARY_NE_QUAD_XY: 558531.95600 5045495.99500
SECONDARY_SE_QUAD_XY: 558596.82200 5038552.44700
SECONDARY_SW_QUAD_XY: 553713.75800 5038508.75300
RMSE_XY: 1.60000
IMAGE_SOURCE: BLACK AND WHITE FILM
SOURCE_IMAGE_ID: NAPP 10724 35
SOURCE_IMAGE_DATE: 1997 8 30
SOURCE_DEM_DATE: 1998 07 23
AGENCY: WESTERN MAPPING CENTER (WMC)
PRODUCER: MID-CONTINENT MAPPING CENTER (MCMC)
PRODUCTION_SYSTEM: DV2.6.3 10/9OV2.4 5/95
COMPRESSION: UNDEFINED
STANDARD_VERSION: 1996 12
METADATA_DATE: 1998 12 8
DATA_FILE_SIZE: 42399312
BYTE_COUNT: 5584
