FILENAME: O4510430.SWS.941677.tif
QUADRANGLE_NAME: BELLTOWER BUTTE
QUADRANT: SW
WEST_LONGITUDE: -104 22 30.00000
EAST_LONGITUDE: -104 18 45.00000
NORTH_LATITUDE: 45 33 45.00000
SOUTH_LATITUDE: 45 30 0.00000
PRODUCTION_DATE: 1998 12 2
RASTER_ORDER: LEFT_RIGHT/TOP_BOTTOM
BAND_ORGANIZATION: SINGLE FILE
BAND_CONTENT: BLACK&WHITE
BAND_CONTENT: UNDEFINED
BAND_CONTENT: UNDEFINED
BITS_PER_PIXEL: 8
SAMPLES_AND_LINES: 5576 7588
HORIZONTAL_DATUM: NAD83
HORIZONTAL_COORDINATE_SYSTEM: UTM
COORDINATE_ZONE: 13
HORIZONTAL_UNITS: METERS
HORIZONTAL_RESOLUTION: 1.00000
SECONDARY_HORIZONTAL_DATUM: NAD27
XY_ORIGIN: 548435.00000 5045971.00000
SECONDARY_XY_ORIGIN: 548475.00000 5045755.00000
NATION: US
STATE: MT
NW_QUAD_CORNER_XY: 548775.18000 5045630.06200
NE_QUAD_CORNER_XY: 553652.69400 5045669.95300
SE_QUAD_CORNERY_XY: 553712.15500 5038726.35500
SW_QUAD_CORNER_XY: 548829.23500 5038686.46300
SECONDARY_NW_QUAD_XY: 548776.63800 5045412.41100
SECONDARY_NE_QUAD_XY: 553654.29700 5045452.30300
SECONDARY_SE_QUAD_XY: 553713.75800 5038508.75300
SECONDARY_SW_QUAD_XY: 548830.69200 5038468.86000
RMSE_XY: 1.30000
IMAGE_SOURCE: BLACK AND WHITE FILM
SOURCE_IMAGE_ID: NAPP 10724 78
SOURCE_IMAGE_DATE: 1997 8 30
SOURCE_DEM_DATE: 1998 07 23
AGENCY: WESTERN MAPPING CENTER (WMC)
PRODUCER: MID-CONTINENT MAPPING CENTER (MCMC)
PRODUCTION_SYSTEM: DV2.6.3 10/9OV2.4 5/95
COMPRESSION: UNDEFINED
STANDARD_VERSION: 1996 12
METADATA_DATE: 1998 12 8
DATA_FILE_SIZE: 42316264
BYTE_COUNT: 5576
