FILENAME: O4510428.SES.1167371.tif
QUADRANGLE_NAME: IKEY CREEK
QUADRANT: SE
WEST_LONGITUDE: -104 33 45.00000
EAST_LONGITUDE: -104 30 0.00000
NORTH_LATITUDE: 45 33 45.00000
SOUTH_LATITUDE: 45 30 0.00000
PRODUCTION_DATE: 2001 11 19
RASTER_ORDER: LEFT_RIGHT/TOP_BOTTOM
BAND_ORGANIZATION: SINGLE FILE
BAND_CONTENT: BLACK&WHITE
BAND_CONTENT: UNDEFINED
BAND_CONTENT: UNDEFINED
BITS_PER_PIXEL: 8
SAMPLES_AND_LINES: 5563 7576
HORIZONTAL_DATUM: NAD83
HORIZONTAL_COORDINATE_SYSTEM: UTM
COORDINATE_ZONE: 13
HORIZONTAL_UNITS: METERS
HORIZONTAL_RESOLUTION: 1.00000
SECONDARY_HORIZONTAL_DATUM: NAD27
XY_ORIGIN: 533802.00000 5045863.00000
SECONDARY_XY_ORIGIN: 533843.00000 5045647.00000
NATION: US
STATE: MT
NW_QUAD_CORNER_XY: 534142.63200 5045533.18600
NE_QUAD_CORNER_XY: 539020.14900 5045561.67900
SE_QUAD_CORNERY_XY: 539063.39200 5038618.07700
SW_QUAD_CORNER_XY: 534180.47000 5038589.58300
SECONDARY_NW_QUAD_XY: 534143.65300 5045315.53200
SECONDARY_NE_QUAD_XY: 539021.31500 5045344.02600
SECONDARY_SE_QUAD_XY: 539064.55800 5038400.47200
SECONDARY_SW_QUAD_XY: 534181.49000 5038371.97800
RMSE_XY: 1.40000
IMAGE_SOURCE: BLACK AND WHITE FILM
SOURCE_IMAGE_ID: NAPP 10762 86
SOURCE_IMAGE_DATE: 1997 9 5
SOURCE_DEM_DATE: 1972 00 00
AGENCY: ROCKY MOUNTAIN MAPPING CENTER (RMMC)
PRODUCER: ROCKY MOUNTAIN MAPPING CENTER (RMMC)
PRODUCTION_SYSTEM: DV2.6.4 1/00 OV2.6 6/00
COMPRESSION: UNDEFINED
STANDARD_VERSION: 1996 12
METADATA_DATE: 2001 11 19
DATA_FILE_SIZE: 42150851
BYTE_COUNT: 5563
