FILENAME: O4510427.NWS.1167366.tif
QUADRANGLE_NAME: DUTCHMAN CREEK
QUADRANT: NW
WEST_LONGITUDE: -104 45 0.00000
EAST_LONGITUDE: -104 41 15.00000
NORTH_LATITUDE: 45 37 30.00000
SOUTH_LATITUDE: 45 33 45.00000
PRODUCTION_DATE: 2001 11 19
RASTER_ORDER: LEFT_RIGHT/TOP_BOTTOM
BAND_ORGANIZATION: SINGLE FILE
BAND_CONTENT: BLACK&WHITE
BAND_CONTENT: UNDEFINED
BAND_CONTENT: UNDEFINED
BITS_PER_PIXEL: 8
SAMPLES_AND_LINES: 5543 7564
HORIZONTAL_DATUM: NAD83
HORIZONTAL_COORDINATE_SYSTEM: UTM
COORDINATE_ZONE: 13
HORIZONTAL_UNITS: METERS
HORIZONTAL_RESOLUTION: 1.00000
SECONDARY_HORIZONTAL_DATUM: NAD27
XY_ORIGIN: 519147.00000 5052732.00000
SECONDARY_XY_ORIGIN: 519188.00000 5052516.00000
NATION: US
STATE: MT
NW_QUAD_CORNER_XY: 519488.43300 5052414.18400
NE_QUAD_CORNER_XY: 524360.54100 5052431.27900
SE_QUAD_CORNERY_XY: 524387.59700 5045487.59800
SW_QUAD_CORNER_XY: 519510.07800 5045470.50300
SECONDARY_NW_QUAD_XY: 519489.01600 5052196.48100
SECONDARY_NE_QUAD_XY: 524361.27000 5052213.57600
SECONDARY_SE_QUAD_XY: 524388.32500 5045269.94300
SECONDARY_SW_QUAD_XY: 519510.66100 5045252.84700
RMSE_XY: 1.30000
IMAGE_SOURCE: BLACK AND WHITE FILM
SOURCE_IMAGE_ID: NAPP 9102 13
SOURCE_IMAGE_DATE: 1996 7 12
SOURCE_DEM_DATE: 1972 00 00
AGENCY: ROCKY MOUNTAIN MAPPING CENTER (RMMC)
PRODUCER: ROCKY MOUNTAIN MAPPING CENTER (RMMC)
PRODUCTION_SYSTEM: DV2.6.4 1/00 OV2.6 6/00
COMPRESSION: UNDEFINED
STANDARD_VERSION: 1996 12
METADATA_DATE: 2001 11 19
DATA_FILE_SIZE: 41932795
BYTE_COUNT: 5543
