FILENAME: O4510426.NES.1167361.tif
QUADRANGLE_NAME: W L BUTTE
QUADRANT: NE
WEST_LONGITUDE: -104 48 45.00000
EAST_LONGITUDE: -104 45 0.00000
NORTH_LATITUDE: 45 37 30.00000
SOUTH_LATITUDE: 45 33 45.00000
PRODUCTION_DATE: 2001 11 19
RASTER_ORDER: LEFT_RIGHT/TOP_BOTTOM
BAND_ORGANIZATION: SINGLE FILE
BAND_CONTENT: BLACK&WHITE
BAND_CONTENT: UNDEFINED
BAND_CONTENT: UNDEFINED
BITS_PER_PIXEL: 8
SAMPLES_AND_LINES: 5537 7561
HORIZONTAL_DATUM: NAD83
HORIZONTAL_COORDINATE_SYSTEM: UTM
COORDINATE_ZONE: 13
HORIZONTAL_UNITS: METERS
HORIZONTAL_RESOLUTION: 1.00000
SECONDARY_HORIZONTAL_DATUM: NAD27
XY_ORIGIN: 514275.00000 5052715.00000
SECONDARY_XY_ORIGIN: 514315.96800 5052497.96700
NATION: US
STATE: MT
NW_QUAD_CORNER_XY: 514616.32500 5052400.88800
NE_QUAD_CORNER_XY: 519488.43300 5052414.18400
SE_QUAD_CORNERY_XY: 519510.07800 5045470.50300
SW_QUAD_CORNER_XY: 514632.55900 5045457.20600
SECONDARY_NW_QUAD_XY: 514616.76300 5052183.18500
SECONDARY_NE_QUAD_XY: 519489.01600 5052196.48100
SECONDARY_SE_QUAD_XY: 519510.66100 5045252.84700
SECONDARY_SW_QUAD_XY: 514632.99600 5045239.55000
RMSE_XY: 1.30000
IMAGE_SOURCE: BLACK AND WHITE FILM
SOURCE_IMAGE_ID: NAPP 9107 88
SOURCE_IMAGE_DATE: 1996 8 7
SOURCE_DEM_DATE: 1972 00 00
AGENCY: ROCKY MOUNTAIN MAPPING CENTER (RMMC)
PRODUCER: ROCKY MOUNTAIN MAPPING CENTER (RMMC)
PRODUCTION_SYSTEM: DV2.6.4 1/00 OV2.6 6/00
COMPRESSION: UNDEFINED
STANDARD_VERSION: 1996 12
METADATA_DATE: 2001 11 19
DATA_FILE_SIZE: 41870794
BYTE_COUNT: 5537
