FILENAME: O4510425.SWS.1167360.tif
QUADRANGLE_NAME: POCOCHICHEE BUTTE
QUADRANT: SW
WEST_LONGITUDE: -105 0 0.00000
EAST_LONGITUDE: -104 56 15.00000
NORTH_LATITUDE: 45 33 45.00000
SOUTH_LATITUDE: 45 30 0.00000
PRODUCTION_DATE: 2001 11 19
RASTER_ORDER: LEFT_RIGHT/TOP_BOTTOM
BAND_ORGANIZATION: SINGLE FILE
BAND_CONTENT: BLACK&WHITE
BAND_CONTENT: UNDEFINED
BAND_CONTENT: UNDEFINED
BITS_PER_PIXEL: 8
SAMPLES_AND_LINES: 5527 7549
HORIZONTAL_DATUM: NAD83
HORIZONTAL_COORDINATE_SYSTEM: UTM
COORDINATE_ZONE: 13
HORIZONTAL_UNITS: METERS
HORIZONTAL_RESOLUTION: 1.00000
SECONDARY_HORIZONTAL_DATUM: NAD27
XY_ORIGIN: 499658.00000 5045743.00000
SECONDARY_XY_ORIGIN: 499699.00000 5045527.00000
NATION: US
STATE: MT
NW_QUAD_CORNER_XY: 500000.00000 5045440.11100
NE_QUAD_CORNER_XY: 504877.52000 5045442.01000
SE_QUAD_CORNERY_XY: 504882.92500 5038498.40400
SW_QUAD_CORNER_XY: 500000.00000 5038496.50500
SECONDARY_NW_QUAD_XY: 500000.00000 5045222.45400
SECONDARY_NE_QUAD_XY: 504877.66500 5045224.35400
SECONDARY_SE_QUAD_XY: 504883.07100 5038280.79600
SECONDARY_SW_QUAD_XY: 500000.00000 5038278.89600
RMSE_XY: 1.60000
IMAGE_SOURCE: BLACK AND WHITE FILM
SOURCE_IMAGE_ID: NAPP 9117 112
SOURCE_IMAGE_DATE: 1996 8 27
SOURCE_DEM_DATE: 1972 00 00
AGENCY: ROCKY MOUNTAIN MAPPING CENTER (RMMC)
PRODUCER: ROCKY MOUNTAIN MAPPING CENTER (RMMC)
PRODUCTION_SYSTEM: DV2.6.4 1/00 OV2.6 6/00
COMPRESSION: UNDEFINED
STANDARD_VERSION: 1996 12
METADATA_DATE: 2001 11 19
DATA_FILE_SIZE: 41728850
BYTE_COUNT: 5527
