FILENAME: O4510424.NWS.941738.tif
QUADRANGLE_NAME: NORTH SLICK CREEK
QUADRANT: NW
WEST_LONGITUDE: -104 7 30.00000
EAST_LONGITUDE: -104 3 45.00000
NORTH_LATITUDE: 45 45 0.00000
SOUTH_LATITUDE: 45 41 15.00000
PRODUCTION_DATE: 1998 12 29
RASTER_ORDER: LEFT_RIGHT/TOP_BOTTOM
BAND_ORGANIZATION: SINGLE FILE
BAND_CONTENT: BLACK&WHITE
BAND_CONTENT: UNDEFINED
BAND_CONTENT: UNDEFINED
BITS_PER_PIXEL: 8
SAMPLES_AND_LINES: 5584 7603
HORIZONTAL_DATUM: NAD83
HORIZONTAL_COORDINATE_SYSTEM: UTM
COORDINATE_ZONE: 13
HORIZONTAL_UNITS: METERS
HORIZONTAL_RESOLUTION: 1.00000
SECONDARY_HORIZONTAL_DATUM: NAD27
XY_ORIGIN: 567718.00000 5067000.00000
SECONDARY_XY_ORIGIN: 567758.40700 5066782.77900
NATION: US
STATE: MT
NW_QUAD_CORNER_XY: 568057.70000 5066643.64700
NE_QUAD_CORNER_XY: 572918.95400 5066698.72900
SE_QUAD_CORNERY_XY: 573000.30200 5059754.91500
SW_QUAD_CORNER_XY: 568133.62400 5059699.83100
SECONDARY_NW_QUAD_XY: 568059.74200 5066425.86200
SECONDARY_NE_QUAD_XY: 572921.14200 5066480.94500
SECONDARY_SE_QUAD_XY: 573002.49000 5059537.17800
SECONDARY_SW_QUAD_XY: 568135.66600 5059482.09100
RMSE_XY: 1.90000
IMAGE_SOURCE: BLACK AND WHITE FILM
SOURCE_IMAGE_ID: NAPP 9123 40
SOURCE_IMAGE_DATE: 1997 8 3
SOURCE_DEM_DATE: 1998 07 23
AGENCY: WESTERN MAPPING CENTER (WMC)
PRODUCER: MID-CONTINENT MAPPING CENTER (MCMC)
PRODUCTION_SYSTEM: DV2.6.3 10/9OV2.4 5/95
COMPRESSION: UNDEFINED
STANDARD_VERSION: 1996 12
METADATA_DATE: 1998 12 29
DATA_FILE_SIZE: 42460736
BYTE_COUNT: 5584
