FILENAME: O4510424.SWS.941740.tif
QUADRANGLE_NAME: NORTH SLICK CREEK
QUADRANT: SW
WEST_LONGITUDE: -104 7 30.00000
EAST_LONGITUDE: -104 3 45.00000
NORTH_LATITUDE: 45 41 15.00000
SOUTH_LATITUDE: 45 37 30.00000
PRODUCTION_DATE: 1998 12 2
RASTER_ORDER: LEFT_RIGHT/TOP_BOTTOM
BAND_ORGANIZATION: SINGLE FILE
BAND_CONTENT: BLACK&WHITE
BAND_CONTENT: UNDEFINED
BAND_CONTENT: UNDEFINED
BITS_PER_PIXEL: 8
SAMPLES_AND_LINES: 5588 7603
HORIZONTAL_DATUM: NAD83
HORIZONTAL_COORDINATE_SYSTEM: UTM
COORDINATE_ZONE: 13
HORIZONTAL_UNITS: METERS
HORIZONTAL_RESOLUTION: 1.00000
SECONDARY_HORIZONTAL_DATUM: NAD27
XY_ORIGIN: 567794.00000 5060056.00000
SECONDARY_XY_ORIGIN: 567834.48000 5059838.94900
NATION: US
STATE: MT
NW_QUAD_CORNER_XY: 568133.62400 5059699.83100
NE_QUAD_CORNER_XY: 573000.30200 5059754.91500
SE_QUAD_CORNERY_XY: 573081.56400 5052811.17600
SW_QUAD_CORNER_XY: 568209.46700 5052756.08900
SECONDARY_NW_QUAD_XY: 568135.66600 5059482.09100
SECONDARY_NE_QUAD_XY: 573002.49000 5059537.17800
SECONDARY_SE_QUAD_XY: 573083.75100 5052593.48500
SECONDARY_SW_QUAD_XY: 568211.50800 5052538.39600
RMSE_XY: 1.50000
IMAGE_SOURCE: BLACK AND WHITE FILM
SOURCE_IMAGE_ID: NAPP 9123 42
SOURCE_IMAGE_DATE: 1997 8 3
SOURCE_DEM_DATE: 1998 07 23
AGENCY: WESTERN MAPPING CENTER (WMC)
PRODUCER: MID-CONTINENT MAPPING CENTER (MCMC)
PRODUCTION_SYSTEM: DV2.6.3 10/9OV2.4 5/95
COMPRESSION: UNDEFINED
STANDARD_VERSION: 1996 12
METADATA_DATE: 1998 12 7
DATA_FILE_SIZE: 42491152
BYTE_COUNT: 5588
