FILENAME: O4510420.NWS.1167350.tif
QUADRANGLE_NAME: DEAD BOY DIVIDE
QUADRANT: NW
WEST_LONGITUDE: -104 37 30.00000
EAST_LONGITUDE: -104 33 45.00000
NORTH_LATITUDE: 45 45 0.00000
SOUTH_LATITUDE: 45 41 15.00000
PRODUCTION_DATE: 2001 11 19
RASTER_ORDER: LEFT_RIGHT/TOP_BOTTOM
BAND_ORGANIZATION: SINGLE FILE
BAND_CONTENT: BLACK&WHITE
BAND_CONTENT: UNDEFINED
BAND_CONTENT: UNDEFINED
BITS_PER_PIXEL: 8
SAMPLES_AND_LINES: 5542 7572
HORIZONTAL_DATUM: NAD83
HORIZONTAL_COORDINATE_SYSTEM: UTM
COORDINATE_ZONE: 13
HORIZONTAL_UNITS: METERS
HORIZONTAL_RESOLUTION: 1.00000
SECONDARY_HORIZONTAL_DATUM: NAD27
XY_ORIGIN: 528827.00000 5066665.00000
SECONDARY_XY_ORIGIN: 528867.61900 5066447.72700
NATION: US
STATE: MT
NW_QUAD_CORNER_XY: 529167.60800 5066339.76000
NE_QUAD_CORNER_XY: 534028.87400 5066364.45000
SE_QUAD_CORNERY_XY: 534066.83500 5059420.62000
SW_QUAD_CORNER_XY: 529200.14600 5059395.92800
SECONDARY_NW_QUAD_XY: 529168.48400 5066121.96600
SECONDARY_NE_QUAD_XY: 534029.89500 5066146.65600
SECONDARY_SE_QUAD_XY: 534067.85500 5059202.87200
SECONDARY_SW_QUAD_XY: 529201.02000 5059178.18000
RMSE_XY: 1.80000
IMAGE_SOURCE: BLACK AND WHITE FILM
SOURCE_IMAGE_ID: NAPP 9105 32
SOURCE_IMAGE_DATE: 1996 8 1
SOURCE_DEM_DATE: 1972 00 00
AGENCY: ROCKY MOUNTAIN MAPPING CENTER (RMMC)
PRODUCER: ROCKY MOUNTAIN MAPPING CENTER (RMMC)
PRODUCTION_SYSTEM: DV2.6.4 1/00 OV2.6 6/00
COMPRESSION: UNDEFINED
STANDARD_VERSION: 1996 12
METADATA_DATE: 2001 11 19
DATA_FILE_SIZE: 41969566
BYTE_COUNT: 5542
