FILENAME: O4510419.SES.941619.tif
QUADRANGLE_NAME: CHALK BUTTES
QUADRANT: SE
WEST_LONGITUDE: -104 41 15.00000
EAST_LONGITUDE: -104 37 30.00000
NORTH_LATITUDE: 45 41 15.00000
SOUTH_LATITUDE: 45 37 30.00000
PRODUCTION_DATE: 1998 11 16
RASTER_ORDER: LEFT_RIGHT/TOP_BOTTOM
BAND_ORGANIZATION: SINGLE FILE
BAND_CONTENT: BLACK&WHITE
BAND_CONTENT: UNDEFINED
BAND_CONTENT: UNDEFINED
BITS_PER_PIXEL: 8
SAMPLES_AND_LINES: 5540 7568
HORIZONTAL_DATUM: NAD83
HORIZONTAL_COORDINATE_SYSTEM: UTM
COORDINATE_ZONE: 13
HORIZONTAL_UNITS: METERS
HORIZONTAL_RESOLUTION: 1.00000
SECONDARY_HORIZONTAL_DATUM: NAD27
XY_ORIGIN: 523992.00000 5059697.00000
SECONDARY_XY_ORIGIN: 524032.75300 5059479.86900
NATION: US
STATE: MT
NW_QUAD_CORNER_XY: 524333.45600 5059375.03600
NE_QUAD_CORNER_XY: 529200.14600 5059395.92800
SE_QUAD_CORNERY_XY: 529232.64800 5052452.17200
SW_QUAD_CORNER_XY: 524360.54100 5052431.27900
SECONDARY_NW_QUAD_XY: 524334.18500 5059157.28600
SECONDARY_NE_QUAD_XY: 529201.02000 5059178.18000
SECONDARY_SE_QUAD_XY: 529233.52200 5052234.47000
SECONDARY_SW_QUAD_XY: 524361.27000 5052213.57600
RMSE_XY: 2.90000
IMAGE_SOURCE: BLACK AND WHITE FILM
SOURCE_IMAGE_ID: NAPP 9080 22
SOURCE_IMAGE_DATE: 1996 6 12
SOURCE_DEM_DATE: 1998 07 23
AGENCY: WESTERN MAPPING CENTER (WMC)
PRODUCER: MID-CONTINENT MAPPING CENTER (MCMC)
PRODUCTION_SYSTEM: DV2.6.3 10/9OV2.4 5/95
COMPRESSION: UNDEFINED
STANDARD_VERSION: 1996 12
METADATA_DATE: 1998 12 4
DATA_FILE_SIZE: 41932260
BYTE_COUNT: 5540
