FILENAME: O4510418.NES.1167345.tif
QUADRANGLE_NAME: DAVIS CREEK EAST
QUADRANT: NE
WEST_LONGITUDE: -104 48 45.00000
EAST_LONGITUDE: -104 45 0.00000
NORTH_LATITUDE: 45 45 0.00000
SOUTH_LATITUDE: 45 41 15.00000
PRODUCTION_DATE: 2001 11 19
RASTER_ORDER: LEFT_RIGHT/TOP_BOTTOM
BAND_ORGANIZATION: SINGLE FILE
BAND_CONTENT: BLACK&WHITE
BAND_CONTENT: UNDEFINED
BAND_CONTENT: UNDEFINED
BITS_PER_PIXEL: 8
SAMPLES_AND_LINES: 5527 7561
HORIZONTAL_DATUM: NAD83
HORIZONTAL_COORDINATE_SYSTEM: UTM
COORDINATE_ZONE: 13
HORIZONTAL_UNITS: METERS
HORIZONTAL_RESOLUTION: 1.00000
SECONDARY_HORIZONTAL_DATUM: NAD27
XY_ORIGIN: 514242.00000 5066603.00000
SECONDARY_XY_ORIGIN: 514282.77200 5066385.63400
NATION: US
STATE: MT
NW_QUAD_CORNER_XY: 514583.80600 5066288.48100
NE_QUAD_CORNER_XY: 519445.07400 5066301.77600
SE_QUAD_CORNERY_XY: 519466.76500 5059357.94200
SW_QUAD_CORNER_XY: 514600.07500 5059344.64700
SECONDARY_NW_QUAD_XY: 514584.24400 5066070.68500
SECONDARY_NE_QUAD_XY: 519445.65800 5066083.98000
SECONDARY_SE_QUAD_XY: 519467.34900 5059140.19200
SECONDARY_SW_QUAD_XY: 514600.51200 5059126.89600
RMSE_XY: 1.20000
IMAGE_SOURCE: BLACK AND WHITE FILM
SOURCE_IMAGE_ID: NAPP 9107 84
SOURCE_IMAGE_DATE: 1996 8 7
SOURCE_DEM_DATE: 1972 00 00
AGENCY: ROCKY MOUNTAIN MAPPING CENTER (RMMC)
PRODUCER: ROCKY MOUNTAIN MAPPING CENTER (RMMC)
PRODUCTION_SYSTEM: DV2.6.4 1/00 OV2.6 6/00
COMPRESSION: UNDEFINED
STANDARD_VERSION: 1996 12
METADATA_DATE: 2001 11 19
DATA_FILE_SIZE: 41795174
BYTE_COUNT: 5527
