FILENAME: O4510417.NES.1167341.tif
QUADRANGLE_NAME: DAVIS CREEK WEST
QUADRANT: NE
WEST_LONGITUDE: -104 56 15.00000
EAST_LONGITUDE: -104 52 30.00000
NORTH_LATITUDE: 45 45 0.00000
SOUTH_LATITUDE: 45 41 15.00000
PRODUCTION_DATE: 2001 11 19
RASTER_ORDER: LEFT_RIGHT/TOP_BOTTOM
BAND_ORGANIZATION: SINGLE FILE
BAND_CONTENT: BLACK&WHITE
BAND_CONTENT: UNDEFINED
BAND_CONTENT: UNDEFINED
BITS_PER_PIXEL: 8
SAMPLES_AND_LINES: 5516 7553
HORIZONTAL_DATUM: NAD83
HORIZONTAL_COORDINATE_SYSTEM: UTM
COORDINATE_ZONE: 13
HORIZONTAL_UNITS: METERS
HORIZONTAL_RESOLUTION: 1.00000
SECONDARY_HORIZONTAL_DATUM: NAD27
XY_ORIGIN: 504519.00000 5066580.00000
SECONDARY_XY_ORIGIN: 504560.00000 5066363.00000
NATION: US
STATE: MT
NW_QUAD_CORNER_XY: 504861.26900 5066273.28700
NE_QUAD_CORNER_XY: 509722.53800 5066278.98500
SE_QUAD_CORNERY_XY: 509733.38300 5059335.15000
SW_QUAD_CORNER_XY: 504866.69200 5059329.45200
SECONDARY_NW_QUAD_XY: 504861.41500 5066055.49100
SECONDARY_NE_QUAD_XY: 509722.82900 5066061.18900
SECONDARY_SE_QUAD_XY: 509733.67500 5059117.39900
SECONDARY_SW_QUAD_XY: 504866.83700 5059111.70100
RMSE_XY: 1.90000
IMAGE_SOURCE: BLACK AND WHITE FILM
SOURCE_IMAGE_ID: NAPP 10722 119
SOURCE_IMAGE_DATE: 1997 8 25
SOURCE_DEM_DATE: 1972 00 00
AGENCY: ROCKY MOUNTAIN MAPPING CENTER (RMMC)
PRODUCER: ROCKY MOUNTAIN MAPPING CENTER (RMMC)
PRODUCTION_SYSTEM: DV2.6.4 1/00 OV2.6 6/00
COMPRESSION: UNDEFINED
STANDARD_VERSION: 1996 12
METADATA_DATE: 2001 11 19
DATA_FILE_SIZE: 41667864
BYTE_COUNT: 5516
