FILENAME: O4510417.NWS.1167342.tif
QUADRANGLE_NAME: DAVIS CREEK WEST
QUADRANT: NW
WEST_LONGITUDE: -105 0 0.00000
EAST_LONGITUDE: -104 56 15.00000
NORTH_LATITUDE: 45 45 0.00000
SOUTH_LATITUDE: 45 41 15.00000
PRODUCTION_DATE: 2001 11 17
RASTER_ORDER: LEFT_RIGHT/TOP_BOTTOM
BAND_ORGANIZATION: SINGLE FILE
BAND_CONTENT: BLACK&WHITE
BAND_CONTENT: UNDEFINED
BAND_CONTENT: UNDEFINED
BITS_PER_PIXEL: 8
SAMPLES_AND_LINES: 5511 7549
HORIZONTAL_DATUM: NAD83
HORIZONTAL_COORDINATE_SYSTEM: UTM
COORDINATE_ZONE: 13
HORIZONTAL_UNITS: METERS
HORIZONTAL_RESOLUTION: 1.00000
SECONDARY_HORIZONTAL_DATUM: NAD27
XY_ORIGIN: 499658.00000 5066574.00000
SECONDARY_XY_ORIGIN: 499699.00600 5066356.46500
NATION: US
STATE: MT
NW_QUAD_CORNER_XY: 500000.00000 5066271.38800
NE_QUAD_CORNER_XY: 504861.26900 5066273.28700
SE_QUAD_CORNERY_XY: 504866.69200 5059329.45200
SW_QUAD_CORNER_XY: 500000.00000 5059327.55300
SECONDARY_NW_QUAD_XY: 500000.00000 5066053.59100
SECONDARY_NE_QUAD_XY: 504861.41500 5066055.49100
SECONDARY_SE_QUAD_XY: 504866.83700 5059111.70100
SECONDARY_SW_QUAD_XY: 500000.00000 5059109.80200
RMSE_XY: 2.20000
IMAGE_SOURCE: BLACK AND WHITE FILM
SOURCE_IMAGE_ID: NAPP 10762 13
SOURCE_IMAGE_DATE: 1997 9 5
SOURCE_DEM_DATE: 1972 00 00
AGENCY: ROCKY MOUNTAIN MAPPING CENTER (RMMC)
PRODUCER: ROCKY MOUNTAIN MAPPING CENTER (RMMC)
PRODUCTION_SYSTEM: DV2.6.4 1/00 OV2.6 6/00
COMPRESSION: UNDEFINED
STANDARD_VERSION: 1996 12
METADATA_DATE: 2001 11 17
DATA_FILE_SIZE: 41608050
BYTE_COUNT: 5511
