FILENAME: O4510415.NES.941637.tif
QUADRANGLE_NAME: MILL IRON
QUADRANT: NE
WEST_LONGITUDE: -104 11 15.00000
EAST_LONGITUDE: -104 7 30.00000
NORTH_LATITUDE: 45 52 30.00000
SOUTH_LATITUDE: 45 48 45.00000
PRODUCTION_DATE: 1998 11 30
RASTER_ORDER: LEFT_RIGHT/TOP_BOTTOM
BAND_ORGANIZATION: SINGLE FILE
BAND_CONTENT: BLACK&WHITE
BAND_CONTENT: UNDEFINED
BAND_CONTENT: UNDEFINED
BITS_PER_PIXEL: 8
SAMPLES_AND_LINES: 5568 7599
HORIZONTAL_DATUM: NAD83
HORIZONTAL_COORDINATE_SYSTEM: UTM
COORDINATE_ZONE: 13
HORIZONTAL_UNITS: METERS
HORIZONTAL_RESOLUTION: 1.00000
SECONDARY_HORIZONTAL_DATUM: NAD27
XY_ORIGIN: 562716.00000 5080833.00000
SECONDARY_XY_ORIGIN: 562756.32000 5080615.56500
NATION: US
STATE: MT
NW_QUAD_CORNER_XY: 563055.21500 5080480.22700
NE_QUAD_CORNER_XY: 567905.60600 5080531.50300
SE_QUAD_CORNERY_XY: 567981.69400 5073587.53800
SW_QUAD_CORNER_XY: 563125.86700 5073536.25900
SECONDARY_NW_QUAD_XY: 563057.11200 5080262.35100
SECONDARY_NE_QUAD_XY: 567907.64900 5080313.62900
SECONDARY_SE_QUAD_XY: 567983.73600 5073369.70800
SECONDARY_SW_QUAD_XY: 563127.76400 5073318.42700
RMSE_XY: 1.90000
IMAGE_SOURCE: BLACK AND WHITE FILM
SOURCE_IMAGE_ID: NAPP 9123 65
SOURCE_IMAGE_DATE: 1997 8 3
SOURCE_DEM_DATE: 1998 07 23
AGENCY: WESTERN MAPPING CENTER (WMC)
PRODUCER: MID-CONTINENT MAPPING CENTER (MCMC)
PRODUCTION_SYSTEM: DV2.6.3 10/9OV2.4 5/95
COMPRESSION: UNDEFINED
STANDARD_VERSION: 1996 12
METADATA_DATE: 1998 12 7
DATA_FILE_SIZE: 42316800
BYTE_COUNT: 5568
