FILENAME: O4510414.NWS.941634.tif
QUADRANGLE_NAME: LAMPKIN GULCH
QUADRANT: NW
WEST_LONGITUDE: -104 22 30.00000
EAST_LONGITUDE: -104 18 45.00000
NORTH_LATITUDE: 45 52 30.00000
SOUTH_LATITUDE: 45 48 45.00000
PRODUCTION_DATE: 1998 11 25
RASTER_ORDER: LEFT_RIGHT/TOP_BOTTOM
BAND_ORGANIZATION: SINGLE FILE
BAND_CONTENT: BLACK&WHITE
BAND_CONTENT: UNDEFINED
BAND_CONTENT: UNDEFINED
BITS_PER_PIXEL: 8
SAMPLES_AND_LINES: 5552 7587
HORIZONTAL_DATUM: NAD83
HORIZONTAL_COORDINATE_SYSTEM: UTM
COORDINATE_ZONE: 13
HORIZONTAL_UNITS: METERS
HORIZONTAL_RESOLUTION: 1.00000
SECONDARY_HORIZONTAL_DATUM: NAD27
XY_ORIGIN: 548164.00000 5080690.00000
SECONDARY_XY_ORIGIN: 548204.37700 5080472.57300
NATION: US
STATE: MT
NW_QUAD_CORNER_XY: 548504.03100 5080349.19000
NE_QUAD_CORNER_XY: 553354.42800 5080389.07100
SE_QUAD_CORNERY_XY: 553414.20900 5073445.09700
SW_QUAD_CORNER_XY: 548558.37700 5073405.21400
SECONDARY_NW_QUAD_XY: 548505.49000 5080131.31000
SECONDARY_NE_QUAD_XY: 553356.03300 5080171.19200
SECONDARY_SE_QUAD_XY: 553415.81400 5073227.26200
SECONDARY_SW_QUAD_XY: 548559.83600 5073187.37800
RMSE_XY: 1.20000
IMAGE_SOURCE: BLACK AND WHITE FILM
SOURCE_IMAGE_ID: NAPP 10724 88
SOURCE_IMAGE_DATE: 1997 8 30
SOURCE_DEM_DATE: 1998 07 23
AGENCY: WESTERN MAPPING CENTER (WMC)
PRODUCER: MID-CONTINENT MAPPING CENTER (MCMC)
PRODUCTION_SYSTEM: DV2.6.3 10/9OV2.4 5/95
COMPRESSION: UNDEFINED
STANDARD_VERSION: 1996 12
METADATA_DATE: 1998 12 7
DATA_FILE_SIZE: 42128576
BYTE_COUNT: 5552
