FILENAME: O4510414.SES.941635.tif
QUADRANGLE_NAME: LAMPKIN GULCH
QUADRANT: SE
WEST_LONGITUDE: -104 18 45.00000
EAST_LONGITUDE: -104 15 0.00000
NORTH_LATITUDE: 45 48 45.00000
SOUTH_LATITUDE: 45 45 0.00000
PRODUCTION_DATE: 1998 11 25
RASTER_ORDER: LEFT_RIGHT/TOP_BOTTOM
BAND_ORGANIZATION: SINGLE FILE
BAND_CONTENT: BLACK&WHITE
BAND_CONTENT: UNDEFINED
BAND_CONTENT: UNDEFINED
BITS_PER_PIXEL: 8
SAMPLES_AND_LINES: 5560 7591
HORIZONTAL_DATUM: NAD83
HORIZONTAL_COORDINATE_SYSTEM: UTM
COORDINATE_ZONE: 13
HORIZONTAL_UNITS: METERS
HORIZONTAL_RESOLUTION: 1.00000
SECONDARY_HORIZONTAL_DATUM: NAD27
XY_ORIGIN: 553074.00000 5073790.00000
SECONDARY_XY_ORIGIN: 553114.00000 5073573.00000
NATION: US
STATE: MT
NW_QUAD_CORNER_XY: 553414.20900 5073445.09700
NE_QUAD_CORNER_XY: 558270.03900 5073488.77800
SE_QUAD_CORNERY_XY: 558335.18600 5066544.88200
SW_QUAD_CORNER_XY: 553473.92700 5066501.19800
SECONDARY_NW_QUAD_XY: 553415.81400 5073227.26200
SECONDARY_NE_QUAD_XY: 558271.79000 5073270.94500
SECONDARY_SE_QUAD_XY: 558336.93600 5066327.09400
SECONDARY_SW_QUAD_XY: 553475.53100 5066283.40800
RMSE_XY: 1.60000
IMAGE_SOURCE: BLACK AND WHITE FILM
SOURCE_IMAGE_ID: NAPP 10724 27
SOURCE_IMAGE_DATE: 1997 8 30
SOURCE_DEM_DATE: 1998 07 23
AGENCY: WESTERN MAPPING CENTER (WMC)
PRODUCER: MID-CONTINENT MAPPING CENTER (MCMC)
PRODUCTION_SYSTEM: DV2.6.3 10/9OV2.4 5/95
COMPRESSION: UNDEFINED
STANDARD_VERSION: 1996 12
METADATA_DATE: 1998 12 8
DATA_FILE_SIZE: 42211520
BYTE_COUNT: 5560
