FILENAME: O4510414.SWS.941636.tif
QUADRANGLE_NAME: LAMPKIN GULCH
QUADRANT: SW
WEST_LONGITUDE: -104 22 30.00000
EAST_LONGITUDE: -104 18 45.00000
NORTH_LATITUDE: 45 48 45.00000
SOUTH_LATITUDE: 45 45 0.00000
PRODUCTION_DATE: 1998 11 17
RASTER_ORDER: LEFT_RIGHT/TOP_BOTTOM
BAND_ORGANIZATION: SINGLE FILE
BAND_CONTENT: BLACK&WHITE
BAND_CONTENT: UNDEFINED
BAND_CONTENT: UNDEFINED
BITS_PER_PIXEL: 8
SAMPLES_AND_LINES: 5556 7587
HORIZONTAL_DATUM: NAD83
HORIZONTAL_COORDINATE_SYSTEM: UTM
COORDINATE_ZONE: 13
HORIZONTAL_UNITS: METERS
HORIZONTAL_RESOLUTION: 1.00000
SECONDARY_HORIZONTAL_DATUM: NAD27
XY_ORIGIN: 548218.00000 5073746.00000
SECONDARY_XY_ORIGIN: 548258.00000 5073529.00000
NATION: US
STATE: MT
NW_QUAD_CORNER_XY: 548558.37700 5073405.21400
NE_QUAD_CORNER_XY: 553414.20900 5073445.09700
SE_QUAD_CORNERY_XY: 553473.92700 5066501.19800
SW_QUAD_CORNER_XY: 548612.66600 5066461.31300
SECONDARY_NW_QUAD_XY: 548559.83600 5073187.37800
SECONDARY_NE_QUAD_XY: 553415.81400 5073227.26200
SECONDARY_SE_QUAD_XY: 553475.53100 5066283.40800
SECONDARY_SW_QUAD_XY: 548614.12400 5066243.52200
RMSE_XY: 1.90000
IMAGE_SOURCE: BLACK AND WHITE FILM
SOURCE_IMAGE_ID: NAPP 10724 86
SOURCE_IMAGE_DATE: 1997 8 30
SOURCE_DEM_DATE: 1998 07 23
AGENCY: WESTERN MAPPING CENTER (WMC)
PRODUCER: MID-CONTINENT MAPPING CENTER (MCMC)
PRODUCTION_SYSTEM: DV2.6.3 10/9OV2.4 5/95
COMPRESSION: UNDEFINED
STANDARD_VERSION: 1996 12
METADATA_DATE: 1998 12 8
DATA_FILE_SIZE: 42158928
BYTE_COUNT: 5556
