FILENAME: O4510412.SWS.941616.tif
QUADRANGLE_NAME: STAGVILLE DRAW
QUADRANT: SW
WEST_LONGITUDE: -104 37 30.00000
EAST_LONGITUDE: -104 33 45.00000
NORTH_LATITUDE: 45 48 45.00000
SOUTH_LATITUDE: 45 45 0.00000
PRODUCTION_DATE: 1998 11 16
RASTER_ORDER: LEFT_RIGHT/TOP_BOTTOM
BAND_ORGANIZATION: SINGLE FILE
BAND_CONTENT: BLACK&WHITE
BAND_CONTENT: UNDEFINED
BAND_CONTENT: UNDEFINED
BITS_PER_PIXEL: 8
SAMPLES_AND_LINES: 5536 7572
HORIZONTAL_DATUM: NAD83
HORIZONTAL_COORDINATE_SYSTEM: UTM
COORDINATE_ZONE: 13
HORIZONTAL_UNITS: METERS
HORIZONTAL_RESOLUTION: 1.00000
SECONDARY_HORIZONTAL_DATUM: NAD27
XY_ORIGIN: 528794.00000 5073609.00000
SECONDARY_XY_ORIGIN: 528834.56000 5073391.63500
NATION: US
STATE: MT
NW_QUAD_CORNER_XY: 529135.03600 5073283.66800
NE_QUAD_CORNER_XY: 533990.87300 5073308.35700
SE_QUAD_CORNERY_XY: 534028.87400 5066364.45000
SW_QUAD_CORNER_XY: 529167.60800 5066339.76000
SECONDARY_NW_QUAD_XY: 529135.91200 5073065.82800
SECONDARY_NE_QUAD_XY: 533991.89500 5073090.51800
SECONDARY_SE_QUAD_XY: 534029.89500 5066146.65600
SECONDARY_SW_QUAD_XY: 529168.48400 5066121.96600
RMSE_XY: 1.20000
IMAGE_SOURCE: BLACK AND WHITE FILM
SOURCE_IMAGE_ID: NAPP 10724 191
SOURCE_IMAGE_DATE: 1997 8 30
SOURCE_DEM_DATE: 1998 07 23
AGENCY: WESTERN MAPPING CENTER (WMC)
PRODUCER: MID-CONTINENT MAPPING CENTER (MCMC)
PRODUCTION_SYSTEM: DV2.6.3 10/9OV2.4 5/95
COMPRESSION: UNDEFINED
STANDARD_VERSION: 1996 12
METADATA_DATE: 1998 12 8
DATA_FILE_SIZE: 41924128
BYTE_COUNT: 5536
