FILENAME: O4510411.SWS.941612.tif
QUADRANGLE_NAME: BEAVER FLATS SOUTH
QUADRANT: SW
WEST_LONGITUDE: -104 45 0.00000
EAST_LONGITUDE: -104 41 15.00000
NORTH_LATITUDE: 45 48 45.00000
SOUTH_LATITUDE: 45 45 0.00000
PRODUCTION_DATE: 1998 11 16
RASTER_ORDER: LEFT_RIGHT/TOP_BOTTOM
BAND_ORGANIZATION: SINGLE FILE
BAND_CONTENT: BLACK&WHITE
BAND_CONTENT: UNDEFINED
BAND_CONTENT: UNDEFINED
BITS_PER_PIXEL: 8
SAMPLES_AND_LINES: 5524 7565
HORIZONTAL_DATUM: NAD83
HORIZONTAL_COORDINATE_SYSTEM: UTM
COORDINATE_ZONE: 13
HORIZONTAL_UNITS: METERS
HORIZONTAL_RESOLUTION: 1.00000
SECONDARY_HORIZONTAL_DATUM: NAD27
XY_ORIGIN: 519082.00000 5073564.00000
SECONDARY_XY_ORIGIN: 519122.64100 5073346.59300
NATION: US
STATE: MT
NW_QUAD_CORNER_XY: 519423.36000 5073245.68500
NE_QUAD_CORNER_XY: 524279.19800 5073262.77700
SE_QUAD_CORNERY_XY: 524306.34200 5066318.86900
SW_QUAD_CORNER_XY: 519445.07400 5066301.77600
SECONDARY_NW_QUAD_XY: 519423.94300 5073027.84500
SECONDARY_NE_QUAD_XY: 524279.92800 5073044.93700
SECONDARY_SE_QUAD_XY: 524307.07100 5066101.07300
SECONDARY_SW_QUAD_XY: 519445.65800 5066083.98000
RMSE_XY: 3.90000
IMAGE_SOURCE: BLACK AND WHITE FILM
SOURCE_IMAGE_ID: NAPP 9080 235
SOURCE_IMAGE_DATE: 1996 6 12
SOURCE_DEM_DATE: 1998 07 23
AGENCY: WESTERN MAPPING CENTER (WMC)
PRODUCER: MID-CONTINENT MAPPING CENTER (MCMC)
PRODUCTION_SYSTEM: DV2.6.3 10/9OV2.4 5/95
COMPRESSION: UNDEFINED
STANDARD_VERSION: 1996 12
METADATA_DATE: 1998 12 8
DATA_FILE_SIZE: 41794584
BYTE_COUNT: 5524
