FILENAME: O4510410.SES.1167339.tif
QUADRANGLE_NAME: BLACKTAIL CREEK SE
QUADRANT: SE
WEST_LONGITUDE: -104 48 45.00000
EAST_LONGITUDE: -104 45 0.00000
NORTH_LATITUDE: 45 48 45.00000
SOUTH_LATITUDE: 45 45 0.00000
PRODUCTION_DATE: 2001 11 17
RASTER_ORDER: LEFT_RIGHT/TOP_BOTTOM
BAND_ORGANIZATION: SINGLE FILE
BAND_CONTENT: BLACK&WHITE
BAND_CONTENT: UNDEFINED
BAND_CONTENT: UNDEFINED
BITS_PER_PIXEL: 8
SAMPLES_AND_LINES: 5521 7561
HORIZONTAL_DATUM: NAD83
HORIZONTAL_COORDINATE_SYSTEM: UTM
COORDINATE_ZONE: 13
HORIZONTAL_UNITS: METERS
HORIZONTAL_RESOLUTION: 1.00000
SECONDARY_HORIZONTAL_DATUM: NAD27
XY_ORIGIN: 514226.00000 5073547.00000
SECONDARY_XY_ORIGIN: 514266.71400 5073329.53300
NATION: US
STATE: MT
NW_QUAD_CORNER_XY: 514567.52000 5073232.39200
NE_QUAD_CORNER_XY: 519423.36000 5073245.68500
SE_QUAD_CORNERY_XY: 519445.07400 5066301.77600
SW_QUAD_CORNER_XY: 514583.80600 5066288.48100
SECONDARY_NW_QUAD_XY: 514567.95800 5073014.55100
SECONDARY_NE_QUAD_XY: 519423.94300 5073027.84500
SECONDARY_SE_QUAD_XY: 519445.65800 5066083.98000
SECONDARY_SW_QUAD_XY: 514584.24400 5066070.68500
RMSE_XY: 1.40000
IMAGE_SOURCE: BLACK AND WHITE FILM
SOURCE_IMAGE_ID: NAPP 10725 105
SOURCE_IMAGE_DATE: 1997 9 2
SOURCE_DEM_DATE: 1972 00 00
AGENCY: ROCKY MOUNTAIN MAPPING CENTER (RMMC)
PRODUCER: ROCKY MOUNTAIN MAPPING CENTER (RMMC)
PRODUCTION_SYSTEM: DV2.6.4 1/00 OV2.6 6/00
COMPRESSION: UNDEFINED
STANDARD_VERSION: 1996 12
METADATA_DATE: 2001 11 17
DATA_FILE_SIZE: 41749802
BYTE_COUNT: 5521
