FILENAME: O4510405.SES.941603.tif
QUADRANGLE_NAME: TERRELL CREEK
QUADRANT: SE
WEST_LONGITUDE: -104 26 15.00000
EAST_LONGITUDE: -104 22 30.00000
NORTH_LATITUDE: 45 56 15.00000
SOUTH_LATITUDE: 45 52 30.00000
PRODUCTION_DATE: 1998 11 25
RASTER_ORDER: LEFT_RIGHT/TOP_BOTTOM
BAND_ORGANIZATION: SINGLE FILE
BAND_CONTENT: BLACK&WHITE
BAND_CONTENT: UNDEFINED
BAND_CONTENT: UNDEFINED
BITS_PER_PIXEL: 8
SAMPLES_AND_LINES: 5540 7583
HORIZONTAL_DATUM: NAD83
HORIZONTAL_COORDINATE_SYSTEM: UTM
COORDINATE_ZONE: 13
HORIZONTAL_UNITS: METERS
HORIZONTAL_RESOLUTION: 1.00000
SECONDARY_HORIZONTAL_DATUM: NAD27
XY_ORIGIN: 543265.00000 5087594.00000
SECONDARY_XY_ORIGIN: 543305.33100 5087376.49600
NATION: US
STATE: MT
NW_QUAD_CORNER_XY: 543604.66900 5087257.16200
NE_QUAD_CORNER_XY: 548449.62700 5087293.24200
SE_QUAD_CORNERY_XY: 548504.03100 5080349.19000
SW_QUAD_CORNER_XY: 543653.63300 5080313.10800
SECONDARY_NW_QUAD_XY: 543605.98300 5087039.23800
SECONDARY_NE_QUAD_XY: 548451.08600 5087075.31900
SECONDARY_SE_QUAD_XY: 548505.49000 5080131.31000
SECONDARY_SW_QUAD_XY: 543654.94600 5080095.22700
RMSE_XY: 1.40000
IMAGE_SOURCE: BLACK AND WHITE FILM
SOURCE_IMAGE_ID: NAPP 10724 113
SOURCE_IMAGE_DATE: 1997 8 30
SOURCE_DEM_DATE: 1998 07 23
AGENCY: WESTERN MAPPING CENTER (WMC)
PRODUCER: MID-CONTINENT MAPPING CENTER (MCMC)
PRODUCTION_SYSTEM: DV2.6.3 10/9OV2.4 5/95
COMPRESSION: UNDEFINED
STANDARD_VERSION: 1996 12
METADATA_DATE: 1998 12 9
DATA_FILE_SIZE: 42015360
BYTE_COUNT: 5540
