FILENAME: O4510404.NES.941597.tif
QUADRANGLE_NAME: EKALAKA
QUADRANT: NE
WEST_LONGITUDE: -104 33 45.00000
EAST_LONGITUDE: -104 30 0.00000
NORTH_LATITUDE: 46 0 0.00000
SOUTH_LATITUDE: 45 56 15.00000
PRODUCTION_DATE: 1998 11 17
RASTER_ORDER: LEFT_RIGHT/TOP_BOTTOM
BAND_ORGANIZATION: SINGLE FILE
BAND_CONTENT: BLACK&WHITE
BAND_CONTENT: UNDEFINED
BAND_CONTENT: UNDEFINED
BITS_PER_PIXEL: 8
SAMPLES_AND_LINES: 5524 7576
HORIZONTAL_DATUM: NAD83
HORIZONTAL_COORDINATE_SYSTEM: UTM
COORDINATE_ZONE: 13
HORIZONTAL_UNITS: METERS
HORIZONTAL_RESOLUTION: 1.00000
SECONDARY_HORIZONTAL_DATUM: NAD27
XY_ORIGIN: 533536.00000 5094470.00000
SECONDARY_XY_ORIGIN: 533576.33400 5094252.39000
NATION: US
STATE: MT
NW_QUAD_CORNER_XY: 533876.62600 5094140.53100
NE_QUAD_CORNER_XY: 538716.14100 5094169.01300
SE_QUAD_CORNERY_XY: 538759.71000 5087224.88100
SW_QUAD_CORNER_XY: 533914.74900 5087196.39700
SECONDARY_NW_QUAD_XY: 533877.64800 5093922.56200
SECONDARY_NE_QUAD_XY: 538717.30800 5093951.04500
SECONDARY_SE_QUAD_XY: 538760.87800 5087006.95500
SECONDARY_SW_QUAD_XY: 533915.77100 5086978.47100
RMSE_XY: 1.40000
IMAGE_SOURCE: BLACK AND WHITE FILM
SOURCE_IMAGE_ID: NAPP 9104 56
SOURCE_IMAGE_DATE: 1996 7 29
SOURCE_DEM_DATE: 1998 07 23
AGENCY: WESTERN MAPPING CENTER (WMC)
PRODUCER: MID-CONTINENT MAPPING CENTER (MCMC)
PRODUCTION_SYSTEM: DV2.6.3 10/9OV2.4 5/95
COMPRESSION: UNDEFINED
STANDARD_VERSION: 1996 12
METADATA_DATE: 1998 12 9
DATA_FILE_SIZE: 41855348
BYTE_COUNT: 5524
