FILENAME: O4510404.SES.941599.tif
QUADRANGLE_NAME: EKALAKA
QUADRANT: SE
WEST_LONGITUDE: -104 33 45.00000
EAST_LONGITUDE: -104 30 0.00000
NORTH_LATITUDE: 45 56 15.00000
SOUTH_LATITUDE: 45 52 30.00000
PRODUCTION_DATE: 1998 11 17
RASTER_ORDER: LEFT_RIGHT/TOP_BOTTOM
BAND_ORGANIZATION: SINGLE FILE
BAND_CONTENT: BLACK&WHITE
BAND_CONTENT: UNDEFINED
BAND_CONTENT: UNDEFINED
BITS_PER_PIXEL: 8
SAMPLES_AND_LINES: 5528 7576
HORIZONTAL_DATUM: NAD83
HORIZONTAL_COORDINATE_SYSTEM: UTM
COORDINATE_ZONE: 13
HORIZONTAL_UNITS: METERS
HORIZONTAL_RESOLUTION: 1.00000
SECONDARY_HORIZONTAL_DATUM: NAD27
XY_ORIGIN: 533574.00000 5087526.00000
SECONDARY_XY_ORIGIN: 533614.00000 5087309.00000
NATION: US
STATE: MT
NW_QUAD_CORNER_XY: 533914.74900 5087196.39700
NE_QUAD_CORNER_XY: 538759.71000 5087224.88100
SE_QUAD_CORNERY_XY: 538803.23300 5080280.82400
SW_QUAD_CORNER_XY: 533952.83200 5080252.33900
SECONDARY_NW_QUAD_XY: 533915.77100 5086978.47100
SECONDARY_NE_QUAD_XY: 538760.87800 5087006.95500
SECONDARY_SE_QUAD_XY: 538804.40000 5080062.94200
SECONDARY_SW_QUAD_XY: 533953.85300 5080034.45600
RMSE_XY: 2.50000
IMAGE_SOURCE: BLACK AND WHITE FILM
SOURCE_IMAGE_ID: NAPP 9104 58
SOURCE_IMAGE_DATE: 1996 7 29
SOURCE_DEM_DATE: 1998 07 23
AGENCY: WESTERN MAPPING CENTER (WMC)
PRODUCER: MID-CONTINENT MAPPING CENTER (MCMC)
PRODUCTION_SYSTEM: DV2.6.3 10/9OV2.4 5/95
COMPRESSION: UNDEFINED
STANDARD_VERSION: 1996 12
METADATA_DATE: 1998 12 9
DATA_FILE_SIZE: 41885656
BYTE_COUNT: 5528
