FILENAME: O4510404.SWS.941600.tif
QUADRANGLE_NAME: EKALAKA
QUADRANT: SW
WEST_LONGITUDE: -104 37 30.00000
EAST_LONGITUDE: -104 33 45.00000
NORTH_LATITUDE: 45 56 15.00000
SOUTH_LATITUDE: 45 52 30.00000
PRODUCTION_DATE: 1998 11 16
RASTER_ORDER: LEFT_RIGHT/TOP_BOTTOM
BAND_ORGANIZATION: SINGLE FILE
BAND_CONTENT: BLACK&WHITE
BAND_CONTENT: UNDEFINED
BAND_CONTENT: UNDEFINED
BITS_PER_PIXEL: 8
SAMPLES_AND_LINES: 5524 7572
HORIZONTAL_DATUM: NAD83
HORIZONTAL_COORDINATE_SYSTEM: UTM
COORDINATE_ZONE: 13
HORIZONTAL_UNITS: METERS
HORIZONTAL_RESOLUTION: 1.00000
SECONDARY_HORIZONTAL_DATUM: NAD27
XY_ORIGIN: 528729.00000 5087497.00000
SECONDARY_XY_ORIGIN: 528769.44300 5087279.45400
NATION: US
STATE: MT
NW_QUAD_CORNER_XY: 529069.78700 5087171.71100
NE_QUAD_CORNER_XY: 533914.74900 5087196.39700
SE_QUAD_CORNERY_XY: 533952.83200 5080252.33900
SW_QUAD_CORNER_XY: 529102.42900 5080227.65200
SECONDARY_NW_QUAD_XY: 529070.66300 5086953.78500
SECONDARY_NE_QUAD_XY: 533915.77100 5086978.47100
SECONDARY_SE_QUAD_XY: 533953.85300 5080034.45600
SECONDARY_SW_QUAD_XY: 529103.30500 5080009.76800
RMSE_XY: 1.00000
IMAGE_SOURCE: BLACK AND WHITE FILM
SOURCE_IMAGE_ID: NAPP 10724 187
SOURCE_IMAGE_DATE: 1997 8 30
SOURCE_DEM_DATE: 1998 07 23
AGENCY: WESTERN MAPPING CENTER (WMC)
PRODUCER: MID-CONTINENT MAPPING CENTER (MCMC)
PRODUCTION_SYSTEM: DV2.6.3 10/9OV2.4 5/95
COMPRESSION: UNDEFINED
STANDARD_VERSION: 1996 12
METADATA_DATE: 1998 12 9
DATA_FILE_SIZE: 41833252
BYTE_COUNT: 5524
