FILENAME: O4510563.SES.840679.tif
QUADRANGLE_NAME: BELLE CREEK SW
QUADRANT: SE
WEST_LONGITUDE: -105 11 15.00000
EAST_LONGITUDE: -105 7 30.00000
NORTH_LATITUDE: 45 3 45.00000
SOUTH_LATITUDE: 45 0 0.00000
PRODUCTION_DATE: 1997 11 11
RASTER_ORDER: LEFT_RIGHT/TOP_BOTTOM
BAND_ORGANIZATION: SINGLE FILE
BAND_CONTENT: BLACK&WHITE
BAND_CONTENT: UNDEFINED
BAND_CONTENT: UNDEFINED
BITS_PER_PIXEL: 8
SAMPLES_AND_LINES: 5578 7553
HORIZONTAL_DATUM: NAD83
HORIZONTAL_COORDINATE_SYSTEM: UTM
COORDINATE_ZONE: 13
HORIZONTAL_UNITS: METERS
HORIZONTAL_RESOLUTION: 1.00000
SECONDARY_HORIZONTAL_DATUM: NAD27
XY_ORIGIN: 484880.50000 4990209.50000
SECONDARY_XY_ORIGIN: 484922.77800 4989993.76800
NATION: US
STATE: MT
STATE: WY
NW_QUAD_CORNER_XY: 485238.20700 4989910.49500
NE_QUAD_CORNER_XY: 490158.80500 4989900.99600
SE_QUAD_CORNERY_XY: 490148.08800 4982958.00000
SW_QUAD_CORNER_XY: 485222.13200 4982967.49900
SECONDARY_NW_QUAD_XY: 485237.77100 4989693.24900
SECONDARY_NE_QUAD_XY: 490158.51400 4989683.75000
SECONDARY_SE_QUAD_XY: 490147.79700 4982740.80900
SECONDARY_SW_QUAD_XY: 485221.69600 4982750.30800
RMSE_XY: 1.33000
IMAGE_SOURCE: BLACK & WHITE FILM
SOURCE_IMAGE_ID: NAPP 3717 9
SOURCE_IMAGE_DATE: 1992 09 28
SOURCE_DEM_DATE: 1997 01 01
AGENCY: WESTERN MAPPING CENTER (WMC)
PRODUCER: NIES MAPPING GROUP, INC.
PRODUCTION_SYSTEM: INTERGRAPH MODEL_SETUP, BASE_RECTIFIER
COMPRESSION: UNDEFINED
STANDARD_VERSION: 1996 12
METADATA_DATE: 1997 11 11
DATA_FILE_SIZE: 42136212
BYTE_COUNT: 5578
