FILENAME: O4510562.NES.840671.tif
QUADRANGLE_NAME: BIDDLE
QUADRANT: NE
WEST_LONGITUDE: -105 18 45.00000
EAST_LONGITUDE: -105 15 0.00000
NORTH_LATITUDE: 45 7 30.00000
SOUTH_LATITUDE: 45 3 45.00000
PRODUCTION_DATE: 1997 11 11
RASTER_ORDER: LEFT_RIGHT/TOP_BOTTOM
BAND_ORGANIZATION: SINGLE FILE
BAND_CONTENT: BLACK&WHITE
BAND_CONTENT: UNDEFINED
BAND_CONTENT: UNDEFINED
BITS_PER_PIXEL: 8
SAMPLES_AND_LINES: 5585 7560
HORIZONTAL_DATUM: NAD83
HORIZONTAL_COORDINATE_SYSTEM: UTM
COORDINATE_ZONE: 13
HORIZONTAL_UNITS: METERS
HORIZONTAL_RESOLUTION: 1.00000
SECONDARY_HORIZONTAL_DATUM: NAD27
XY_ORIGIN: 475054.50000 4997182.50000
SECONDARY_XY_ORIGIN: 475096.82000 4996966.57500
NATION: US
STATE: MT
NW_QUAD_CORNER_XY: 475423.83300 4996883.96300
NE_QUAD_CORNER_XY: 480339.06600 4996866.86500
SE_QUAD_CORNERY_XY: 480317.60900 4989923.79300
SW_QUAD_CORNER_XY: 475397.01100 4989940.89100
SECONDARY_NW_QUAD_XY: 475423.10500 4996666.66400
SECONDARY_NE_QUAD_XY: 480338.48400 4996649.56600
SECONDARY_SE_QUAD_XY: 480317.02700 4989706.54800
SECONDARY_SW_QUAD_XY: 475396.28400 4989723.64700
RMSE_XY: 1.06000
IMAGE_SOURCE: BLACK & WHITE FILM
SOURCE_IMAGE_ID: NAPP 3708 25
SOURCE_IMAGE_DATE: 1991 08 30
SOURCE_DEM_DATE: 1970 01 01
AGENCY: WESTERN MAPPING CENTER (WMC)
PRODUCER: NIES MAPPING GROUP, INC.
PRODUCTION_SYSTEM: INTERGRAPH MODEL_SETUP, BASE_RECTIFIER
COMPRESSION: UNDEFINED
STANDARD_VERSION: 1996 12
METADATA_DATE: 1997 11 11
DATA_FILE_SIZE: 42228185
BYTE_COUNT: 5585
