FILENAME: O4510562.NWS.840673.tif
QUADRANGLE_NAME: BIDDLE
QUADRANT: NW
WEST_LONGITUDE: -105 22 30.00000
EAST_LONGITUDE: -105 18 45.00000
NORTH_LATITUDE: 45 7 30.00000
SOUTH_LATITUDE: 45 3 45.00000
PRODUCTION_DATE: 1997 11 11
RASTER_ORDER: LEFT_RIGHT/TOP_BOTTOM
BAND_ORGANIZATION: SINGLE FILE
BAND_CONTENT: BLACK&WHITE
BAND_CONTENT: UNDEFINED
BAND_CONTENT: UNDEFINED
BITS_PER_PIXEL: 8
SAMPLES_AND_LINES: 5589 7564
HORIZONTAL_DATUM: NAD83
HORIZONTAL_COORDINATE_SYSTEM: UTM
COORDINATE_ZONE: 13
HORIZONTAL_UNITS: METERS
HORIZONTAL_RESOLUTION: 1.00000
SECONDARY_HORIZONTAL_DATUM: NAD27
XY_ORIGIN: 470134.50000 4997203.50000
SECONDARY_XY_ORIGIN: 470176.83500 4996987.54200
NATION: US
STATE: MT
NW_QUAD_CORNER_XY: 470508.59900 4996904.86100
NE_QUAD_CORNER_XY: 475423.83300 4996883.96300
SE_QUAD_CORNERY_XY: 475397.01100 4989940.89100
SW_QUAD_CORNER_XY: 470476.41400 4989961.78900
SECONDARY_NW_QUAD_XY: 470507.72600 4996687.56300
SECONDARY_NE_QUAD_XY: 475423.10500 4996666.66400
SECONDARY_SE_QUAD_XY: 475396.28400 4989723.64700
SECONDARY_SW_QUAD_XY: 470475.54100 4989744.54500
RMSE_XY: 1.70000
IMAGE_SOURCE: BLACK & WHITE FILM
SOURCE_IMAGE_ID: NAPP 3699 54
SOURCE_IMAGE_DATE: 1991 07 06
SOURCE_DEM_DATE: 1970 01 01
AGENCY: WESTERN MAPPING CENTER (WMC)
PRODUCER: NIES MAPPING GROUP, INC.
PRODUCTION_SYSTEM: INTERGRAPH MODEL_SETUP, BASE_RECTIFIER
COMPRESSION: UNDEFINED
STANDARD_VERSION: 1996 12
METADATA_DATE: 1997 11 11
DATA_FILE_SIZE: 42280785
BYTE_COUNT: 5589
