FILENAME: O4510561.NWS.840666.tif
QUADRANGLE_NAME: WILD BILL CREEK
QUADRANT: NW
WEST_LONGITUDE: -105 30 0.00000
EAST_LONGITUDE: -105 26 15.00000
NORTH_LATITUDE: 45 7 30.00000
SOUTH_LATITUDE: 45 3 45.00000
PRODUCTION_DATE: 1997 11 11
RASTER_ORDER: LEFT_RIGHT/TOP_BOTTOM
BAND_ORGANIZATION: SINGLE FILE
BAND_CONTENT: BLACK&WHITE
BAND_CONTENT: UNDEFINED
BAND_CONTENT: UNDEFINED
BITS_PER_PIXEL: 8
SAMPLES_AND_LINES: 5601 7572
HORIZONTAL_DATUM: NAD83
HORIZONTAL_COORDINATE_SYSTEM: UTM
COORDINATE_ZONE: 13
HORIZONTAL_UNITS: METERS
HORIZONTAL_RESOLUTION: 1.00000
SECONDARY_HORIZONTAL_DATUM: NAD27
XY_ORIGIN: 460292.50000 4997257.50000
SECONDARY_XY_ORIGIN: 460334.86400 4997041.47400
NATION: US
STATE: MT
NW_QUAD_CORNER_XY: 460678.13300 4996958.05600
NE_QUAD_CORNER_XY: 465593.36600 4996929.55900
SE_QUAD_CORNERY_XY: 465555.81600 4989986.48700
SW_QUAD_CORNER_XY: 460635.21800 4990014.98400
SECONDARY_NW_QUAD_XY: 460676.96900 4996740.75900
SECONDARY_NE_QUAD_XY: 465592.34800 4996712.26100
SECONDARY_SE_QUAD_XY: 465554.79800 4989769.24300
SECONDARY_SW_QUAD_XY: 460634.05500 4989797.74200
RMSE_XY: 1.56000
IMAGE_SOURCE: BLACK & WHITE FILM
SOURCE_IMAGE_ID: NAPP 3708 108
SOURCE_IMAGE_DATE: 1991 08 30
SOURCE_DEM_DATE: 1970 01 01
AGENCY: WESTERN MAPPING CENTER (WMC)
PRODUCER: NIES MAPPING GROUP, INC.
PRODUCTION_SYSTEM: INTERGRAPH MODEL_SETUP, BASE_RECTIFIER
COMPRESSION: UNDEFINED
STANDARD_VERSION: 1996 12
METADATA_DATE: 1997 11 11
DATA_FILE_SIZE: 42416373
BYTE_COUNT: 5601
