FILENAME: O4510561.SES.840667.tif
QUADRANGLE_NAME: WILD BILL CREEK
QUADRANT: SE
WEST_LONGITUDE: -105 26 15.00000
EAST_LONGITUDE: -105 22 30.00000
NORTH_LATITUDE: 45 3 45.00000
SOUTH_LATITUDE: 45 0 0.00000
PRODUCTION_DATE: 1997 11 11
RASTER_ORDER: LEFT_RIGHT/TOP_BOTTOM
BAND_ORGANIZATION: SINGLE FILE
BAND_CONTENT: BLACK&WHITE
BAND_CONTENT: UNDEFINED
BAND_CONTENT: UNDEFINED
BITS_PER_PIXEL: 8
SAMPLES_AND_LINES: 5601 7568
HORIZONTAL_DATUM: NAD83
HORIZONTAL_COORDINATE_SYSTEM: UTM
COORDINATE_ZONE: 13
HORIZONTAL_UNITS: METERS
HORIZONTAL_RESOLUTION: 1.00000
SECONDARY_HORIZONTAL_DATUM: NAD27
XY_ORIGIN: 465175.50000 4990285.50000
SECONDARY_XY_ORIGIN: 465217.93400 4990069.63900
NATION: US
STATE: MT
STATE: WY
NW_QUAD_CORNER_XY: 465555.81600 4989986.48700
NE_QUAD_CORNER_XY: 470476.41400 4989961.78900
SE_QUAD_CORNERY_XY: 470444.26400 4983018.79300
SW_QUAD_CORNER_XY: 465518.30700 4983043.49100
SECONDARY_NW_QUAD_XY: 465554.79800 4989769.24300
SECONDARY_NE_QUAD_XY: 470475.54100 4989744.54500
SECONDARY_SE_QUAD_XY: 470443.39100 4982801.60400
SECONDARY_SW_QUAD_XY: 465517.29000 4982826.30300
RMSE_XY: 0.93000
IMAGE_SOURCE: BLACK & WHITE FILM
SOURCE_IMAGE_ID: NAPP 3708 103
SOURCE_IMAGE_DATE: 1991 08 30
SOURCE_DEM_DATE: 1970 01 01
AGENCY: WESTERN MAPPING CENTER (WMC)
PRODUCER: NIES MAPPING GROUP, INC.
PRODUCTION_SYSTEM: INTERGRAPH MODEL_SETUP, BASE_RECTIFIER
COMPRESSION: UNDEFINED
STANDARD_VERSION: 1996 12
METADATA_DATE: 1997 11 11
DATA_FILE_SIZE: 42393969
BYTE_COUNT: 5601
