FILENAME: O4510561.SWS.840669.tif
QUADRANGLE_NAME: WILD BILL CREEK
QUADRANT: SW
WEST_LONGITUDE: -105 30 0.00000
EAST_LONGITUDE: -105 26 15.00000
NORTH_LATITUDE: 45 3 45.00000
SOUTH_LATITUDE: 45 0 0.00000
PRODUCTION_DATE: 1997 11 11
RASTER_ORDER: LEFT_RIGHT/TOP_BOTTOM
BAND_ORGANIZATION: SINGLE FILE
BAND_CONTENT: BLACK&WHITE
BAND_CONTENT: UNDEFINED
BAND_CONTENT: UNDEFINED
BITS_PER_PIXEL: 8
SAMPLES_AND_LINES: 5606 7571
HORIZONTAL_DATUM: NAD83
HORIZONTAL_COORDINATE_SYSTEM: UTM
COORDINATE_ZONE: 13
HORIZONTAL_UNITS: METERS
HORIZONTAL_RESOLUTION: 1.00000
SECONDARY_HORIZONTAL_DATUM: NAD27
XY_ORIGIN: 460249.50000 4990313.50000
SECONDARY_XY_ORIGIN: 460291.96200 4990097.60900
NATION: US
STATE: MT
STATE: WY
NW_QUAD_CORNER_XY: 460635.21800 4990014.98400
NE_QUAD_CORNER_XY: 465555.81600 4989986.48700
SE_QUAD_CORNERY_XY: 465518.30700 4983043.49100
SW_QUAD_CORNER_XY: 460592.35100 4983071.98800
SECONDARY_NW_QUAD_XY: 460634.05500 4989797.74200
SECONDARY_NE_QUAD_XY: 465554.79800 4989769.24300
SECONDARY_SE_QUAD_XY: 465517.29000 4982826.30300
SECONDARY_SW_QUAD_XY: 460591.18800 4982854.80100
RMSE_XY: 1.87000
IMAGE_SOURCE: BLACK & WHITE FILM
SOURCE_IMAGE_ID: NAPP 3708 106
SOURCE_IMAGE_DATE: 1991 08 30
SOURCE_DEM_DATE: 1970 01 01
AGENCY: WESTERN MAPPING CENTER (WMC)
PRODUCER: NIES MAPPING GROUP, INC.
PRODUCTION_SYSTEM: INTERGRAPH MODEL_SETUP, BASE_RECTIFIER
COMPRESSION: UNDEFINED
STANDARD_VERSION: 1996 12
METADATA_DATE: 1997 11 11
DATA_FILE_SIZE: 42448632
BYTE_COUNT: 5606
