FILENAME: O4510560.NES.840621.tif
QUADRANGLE_NAME: BAY HORSE
QUADRANT: NE
WEST_LONGITUDE: -105 33 45.00000
EAST_LONGITUDE: -105 30 0.00000
NORTH_LATITUDE: 45 7 30.00000
SOUTH_LATITUDE: 45 3 45.00000
PRODUCTION_DATE: 1997 11 11
RASTER_ORDER: LEFT_RIGHT/TOP_BOTTOM
BAND_ORGANIZATION: SINGLE FILE
BAND_CONTENT: BLACK&WHITE
BAND_CONTENT: UNDEFINED
BAND_CONTENT: UNDEFINED
BITS_PER_PIXEL: 8
SAMPLES_AND_LINES: 5607 7576
HORIZONTAL_DATUM: NAD83
HORIZONTAL_COORDINATE_SYSTEM: UTM
COORDINATE_ZONE: 13
HORIZONTAL_UNITS: METERS
HORIZONTAL_RESOLUTION: 1.00000
SECONDARY_HORIZONTAL_DATUM: NAD27
XY_ORIGIN: 455371.50000 4997289.50000
SECONDARY_XY_ORIGIN: 455413.87000 4997073.40600
NATION: US
STATE: MT
NW_QUAD_CORNER_XY: 455762.90000 4996990.35300
NE_QUAD_CORNER_XY: 460678.13300 4996958.05600
SE_QUAD_CORNERY_XY: 460635.21800 4990014.98400
SW_QUAD_CORNER_XY: 455714.62100 4990047.28100
SECONDARY_NW_QUAD_XY: 455761.59100 4996773.05700
SECONDARY_NE_QUAD_XY: 460676.96900 4996740.75900
SECONDARY_SE_QUAD_XY: 460634.05500 4989797.74200
SECONDARY_SW_QUAD_XY: 455713.31200 4989830.04000
RMSE_XY: 0.98000
IMAGE_SOURCE: BLACK & WHITE FILM
SOURCE_IMAGE_ID: NAPP 3708 86
SOURCE_IMAGE_DATE: 1991 08 30
SOURCE_DEM_DATE: 1970 01 01
AGENCY: WESTERN MAPPING CENTER (WMC)
PRODUCER: NIES MAPPING GROUP, INC.
PRODUCTION_SYSTEM: INTERGRAPH MODEL_SETUP, BASE_RECTIFIER
COMPRESSION: UNDEFINED
STANDARD_VERSION: 1996 12
METADATA_DATE: 1997 11 11
DATA_FILE_SIZE: 42484239
BYTE_COUNT: 5607
