FILENAME: O4510560.SES.840623.tif
QUADRANGLE_NAME: BAY HORSE
QUADRANT: SE
WEST_LONGITUDE: -105 33 45.00000
EAST_LONGITUDE: -105 30 0.00000
NORTH_LATITUDE: 45 3 45.00000
SOUTH_LATITUDE: 45 0 0.00000
PRODUCTION_DATE: 1997 11 11
RASTER_ORDER: LEFT_RIGHT/TOP_BOTTOM
BAND_ORGANIZATION: SINGLE FILE
BAND_CONTENT: BLACK&WHITE
BAND_CONTENT: UNDEFINED
BAND_CONTENT: UNDEFINED
BITS_PER_PIXEL: 8
SAMPLES_AND_LINES: 5612 7576
HORIZONTAL_DATUM: NAD83
HORIZONTAL_COORDINATE_SYSTEM: UTM
COORDINATE_ZONE: 13
HORIZONTAL_UNITS: METERS
HORIZONTAL_RESOLUTION: 1.00000
SECONDARY_HORIZONTAL_DATUM: NAD27
XY_ORIGIN: 455323.50000 4990346.50000
SECONDARY_XY_ORIGIN: 455365.98600 4990130.54400
NATION: US
STATE: MT
STATE: WY
NW_QUAD_CORNER_XY: 455714.62100 4990047.28100
NE_QUAD_CORNER_XY: 460635.21800 4990014.98400
SE_QUAD_CORNERY_XY: 460592.35100 4983071.98800
SW_QUAD_CORNER_XY: 455666.39500 4983104.28500
SECONDARY_NW_QUAD_XY: 455713.31200 4989830.04000
SECONDARY_NE_QUAD_XY: 460634.05500 4989797.74200
SECONDARY_SE_QUAD_XY: 460591.18800 4982854.80100
SECONDARY_SW_QUAD_XY: 455665.08600 4982887.09900
RMSE_XY: 1.63000
IMAGE_SOURCE: BLACK & WHITE FILM
SOURCE_IMAGE_ID: NAPP 3708 84
SOURCE_IMAGE_DATE: 1991 08 30
SOURCE_DEM_DATE: 1970 01 01
AGENCY: WESTERN MAPPING CENTER (WMC)
PRODUCER: NIES MAPPING GROUP, INC.
PRODUCTION_SYSTEM: INTERGRAPH MODEL_SETUP, BASE_RECTIFIER
COMPRESSION: UNDEFINED
STANDARD_VERSION: 1996 12
METADATA_DATE: 1997 11 11
DATA_FILE_SIZE: 42522124
BYTE_COUNT: 5612
