FILENAME: O4510559.SES.840618.tif
QUADRANGLE_NAME: THREE BAR RANCH
QUADRANT: SE
WEST_LONGITUDE: -105 41 15.00000
EAST_LONGITUDE: -105 37 30.00000
NORTH_LATITUDE: 45 3 45.00000
SOUTH_LATITUDE: 45 0 0.00000
PRODUCTION_DATE: 1997 11 16
RASTER_ORDER: LEFT_RIGHT/TOP_BOTTOM
BAND_ORGANIZATION: SINGLE FILE
BAND_CONTENT: BLACK&WHITE
BAND_CONTENT: UNDEFINED
BAND_CONTENT: UNDEFINED
BITS_PER_PIXEL: 8
SAMPLES_AND_LINES: 5623 7583
HORIZONTAL_DATUM: NAD83
HORIZONTAL_COORDINATE_SYSTEM: UTM
COORDINATE_ZONE: 13
HORIZONTAL_UNITS: METERS
HORIZONTAL_RESOLUTION: 1.00000
SECONDARY_HORIZONTAL_DATUM: NAD27
XY_ORIGIN: 445471.50000 4990422.50000
SECONDARY_XY_ORIGIN: 445514.03400 4990206.41500
NATION: US
STATE: MT
STATE: WY
NW_QUAD_CORNER_XY: 445873.42600 4990123.27600
NE_QUAD_CORNER_XY: 450794.02300 4990083.37800
SE_QUAD_CORNERY_XY: 450740.43800 4983140.38200
SW_QUAD_CORNER_XY: 445814.48200 4983180.27900
SECONDARY_NW_QUAD_XY: 445871.82600 4989906.03600
SECONDARY_NE_QUAD_XY: 450792.56900 4989866.13800
SECONDARY_SE_QUAD_XY: 450738.98400 4982923.19700
SECONDARY_SW_QUAD_XY: 445812.88200 4982963.09500
RMSE_XY: 1.68000
IMAGE_SOURCE: BLACK & WHITE FILM
SOURCE_IMAGE_ID: NAPP 3698 28
SOURCE_IMAGE_DATE: 1991 07 02
SOURCE_DEM_DATE: 1997 01 01
AGENCY: WESTERN MAPPING CENTER (WMC)
PRODUCER: NIES MAPPING GROUP, INC.
PRODUCTION_SYSTEM: INTERGRAPH MODEL_SETUP, BASE_RECTIFIER
COMPRESSION: UNDEFINED
STANDARD_VERSION: 1996 12
METADATA_DATE: 1997 11 16
DATA_FILE_SIZE: 42644832
BYTE_COUNT: 5623
